BEGIN:VCALENDAR
VERSION:2.0
PRODID:-//New Salem Baptist Church - ECPv6.15.20//NONSGML v1.0//EN
CALSCALE:GREGORIAN
METHOD:PUBLISH
X-WR-CALNAME:New Salem Baptist Church
X-ORIGINAL-URL:https://nsbcgriffin.org
X-WR-CALDESC:Events for New Salem Baptist Church
REFRESH-INTERVAL;VALUE=DURATION:PT1H
X-Robots-Tag:noindex
X-PUBLISHED-TTL:PT1H
BEGIN:VTIMEZONE
TZID:UTC
BEGIN:STANDARD
TZOFFSETFROM:+0000
TZOFFSETTO:+0000
TZNAME:UTC
DTSTART:20250101T000000
END:STANDARD
END:VTIMEZONE
BEGIN:VEVENT
DTSTART;TZID=UTC:20260422T180000
DTEND;TZID=UTC:20260422T190000
DTSTAMP:20260422T114450
CREATED:20251002T210827Z
LAST-MODIFIED:20260327T142103Z
UID:10003967-1776880800-1776884400@nsbcgriffin.org
SUMMARY:Wednesday Meal
DESCRIPTION:Join us for dinner!  Bring your whole family!  Stay for Bible study! \nCost:  donations
URL:https://nsbcgriffin.org/event/wednesday-meal/2026-04-22/
END:VEVENT
BEGIN:VEVENT
DTSTART;TZID=UTC:20260429T180000
DTEND;TZID=UTC:20260429T190000
DTSTAMP:20260422T114450
CREATED:20251002T210827Z
LAST-MODIFIED:20260327T142103Z
UID:10003968-1777485600-1777489200@nsbcgriffin.org
SUMMARY:Wednesday Meal
DESCRIPTION:Join us for dinner!  Bring your whole family!  Stay for Bible study! \nCost:  donations
URL:https://nsbcgriffin.org/event/wednesday-meal/2026-04-29/
END:VEVENT
BEGIN:VEVENT
DTSTART;TZID=UTC:20260506T180000
DTEND;TZID=UTC:20260506T190000
DTSTAMP:20260422T114450
CREATED:20251002T210827Z
LAST-MODIFIED:20260327T142103Z
UID:10003969-1778090400-1778094000@nsbcgriffin.org
SUMMARY:Wednesday Meal
DESCRIPTION:Join us for dinner!  Bring your whole family!  Stay for Bible study! \nCost:  donations
URL:https://nsbcgriffin.org/event/wednesday-meal/2026-05-06/
END:VEVENT
BEGIN:VEVENT
DTSTART;TZID=UTC:20260513T180000
DTEND;TZID=UTC:20260513T190000
DTSTAMP:20260422T114450
CREATED:20251002T210827Z
LAST-MODIFIED:20260327T142103Z
UID:10003970-1778695200-1778698800@nsbcgriffin.org
SUMMARY:Wednesday Meal
DESCRIPTION:Join us for dinner!  Bring your whole family!  Stay for Bible study! \nCost:  donations
URL:https://nsbcgriffin.org/event/wednesday-meal/2026-05-13/
END:VEVENT
BEGIN:VEVENT
DTSTART;TZID=UTC:20260520T180000
DTEND;TZID=UTC:20260520T190000
DTSTAMP:20260422T114450
CREATED:20251002T210827Z
LAST-MODIFIED:20260327T142103Z
UID:10003971-1779300000-1779303600@nsbcgriffin.org
SUMMARY:Wednesday Meal
DESCRIPTION:Join us for dinner!  Bring your whole family!  Stay for Bible study! \nCost:  donations
URL:https://nsbcgriffin.org/event/wednesday-meal/2026-05-20/
END:VEVENT
BEGIN:VEVENT
DTSTART;TZID=UTC:20260527T180000
DTEND;TZID=UTC:20260527T190000
DTSTAMP:20260422T114450
CREATED:20251002T210827Z
LAST-MODIFIED:20260327T142103Z
UID:10003972-1779904800-1779908400@nsbcgriffin.org
SUMMARY:Wednesday Meal
DESCRIPTION:Join us for dinner!  Bring your whole family!  Stay for Bible study! \nCost:  donations
URL:https://nsbcgriffin.org/event/wednesday-meal/2026-05-27/
END:VEVENT
BEGIN:VEVENT
DTSTART;TZID=UTC:20260603T180000
DTEND;TZID=UTC:20260603T190000
DTSTAMP:20260422T114450
CREATED:20251002T210827Z
LAST-MODIFIED:20260327T142103Z
UID:10003973-1780509600-1780513200@nsbcgriffin.org
SUMMARY:Wednesday Meal
DESCRIPTION:Join us for dinner!  Bring your whole family!  Stay for Bible study! \nCost:  donations
URL:https://nsbcgriffin.org/event/wednesday-meal/2026-06-03/
END:VEVENT
BEGIN:VEVENT
DTSTART;TZID=UTC:20260610T180000
DTEND;TZID=UTC:20260610T190000
DTSTAMP:20260422T114450
CREATED:20251002T210827Z
LAST-MODIFIED:20260327T142103Z
UID:10003974-1781114400-1781118000@nsbcgriffin.org
SUMMARY:Wednesday Meal
DESCRIPTION:Join us for dinner!  Bring your whole family!  Stay for Bible study! \nCost:  donations
URL:https://nsbcgriffin.org/event/wednesday-meal/2026-06-10/
END:VEVENT
BEGIN:VEVENT
DTSTART;TZID=UTC:20260624T180000
DTEND;TZID=UTC:20260624T190000
DTSTAMP:20260422T114450
CREATED:20251002T210827Z
LAST-MODIFIED:20260327T142103Z
UID:10003976-1782324000-1782327600@nsbcgriffin.org
SUMMARY:Wednesday Meal
DESCRIPTION:Join us for dinner!  Bring your whole family!  Stay for Bible study! \nCost:  donations
URL:https://nsbcgriffin.org/event/wednesday-meal/2026-06-24/
END:VEVENT
BEGIN:VEVENT
DTSTART;TZID=UTC:20260701T180000
DTEND;TZID=UTC:20260701T190000
DTSTAMP:20260422T114450
CREATED:20251002T210827Z
LAST-MODIFIED:20260327T142103Z
UID:10003977-1782928800-1782932400@nsbcgriffin.org
SUMMARY:Wednesday Meal
DESCRIPTION:Join us for dinner!  Bring your whole family!  Stay for Bible study! \nCost:  donations
URL:https://nsbcgriffin.org/event/wednesday-meal/2026-07-01/
END:VEVENT
BEGIN:VEVENT
DTSTART;TZID=UTC:20260708T180000
DTEND;TZID=UTC:20260708T190000
DTSTAMP:20260422T114450
CREATED:20251002T210827Z
LAST-MODIFIED:20260327T142103Z
UID:10003978-1783533600-1783537200@nsbcgriffin.org
SUMMARY:Wednesday Meal
DESCRIPTION:Join us for dinner!  Bring your whole family!  Stay for Bible study! \nCost:  donations
URL:https://nsbcgriffin.org/event/wednesday-meal/2026-07-08/
END:VEVENT
BEGIN:VEVENT
DTSTART;TZID=UTC:20260715T180000
DTEND;TZID=UTC:20260715T190000
DTSTAMP:20260422T114450
CREATED:20251002T210827Z
LAST-MODIFIED:20260327T142103Z
UID:10003979-1784138400-1784142000@nsbcgriffin.org
SUMMARY:Wednesday Meal
DESCRIPTION:Join us for dinner!  Bring your whole family!  Stay for Bible study! \nCost:  donations
URL:https://nsbcgriffin.org/event/wednesday-meal/2026-07-15/
END:VEVENT
BEGIN:VEVENT
DTSTART;TZID=UTC:20260722T180000
DTEND;TZID=UTC:20260722T190000
DTSTAMP:20260422T114450
CREATED:20251002T210827Z
LAST-MODIFIED:20260327T142103Z
UID:10003980-1784743200-1784746800@nsbcgriffin.org
SUMMARY:Wednesday Meal
DESCRIPTION:Join us for dinner!  Bring your whole family!  Stay for Bible study! \nCost:  donations
URL:https://nsbcgriffin.org/event/wednesday-meal/2026-07-22/
END:VEVENT
BEGIN:VEVENT
DTSTART;TZID=UTC:20260729T180000
DTEND;TZID=UTC:20260729T190000
DTSTAMP:20260422T114450
CREATED:20251002T210827Z
LAST-MODIFIED:20260327T142103Z
UID:10003981-1785348000-1785351600@nsbcgriffin.org
SUMMARY:Wednesday Meal
DESCRIPTION:Join us for dinner!  Bring your whole family!  Stay for Bible study! \nCost:  donations
URL:https://nsbcgriffin.org/event/wednesday-meal/2026-07-29/
END:VEVENT
BEGIN:VEVENT
DTSTART;TZID=UTC:20260805T180000
DTEND;TZID=UTC:20260805T190000
DTSTAMP:20260422T114450
CREATED:20251002T210827Z
LAST-MODIFIED:20260327T142103Z
UID:10003982-1785952800-1785956400@nsbcgriffin.org
SUMMARY:Wednesday Meal
DESCRIPTION:Join us for dinner!  Bring your whole family!  Stay for Bible study! \nCost:  donations
URL:https://nsbcgriffin.org/event/wednesday-meal/2026-08-05/
END:VEVENT
BEGIN:VEVENT
DTSTART;TZID=UTC:20260812T180000
DTEND;TZID=UTC:20260812T190000
DTSTAMP:20260422T114450
CREATED:20251002T210827Z
LAST-MODIFIED:20260327T142103Z
UID:10003983-1786557600-1786561200@nsbcgriffin.org
SUMMARY:Wednesday Meal
DESCRIPTION:Join us for dinner!  Bring your whole family!  Stay for Bible study! \nCost:  donations
URL:https://nsbcgriffin.org/event/wednesday-meal/2026-08-12/
END:VEVENT
BEGIN:VEVENT
DTSTART;TZID=UTC:20260819T180000
DTEND;TZID=UTC:20260819T190000
DTSTAMP:20260422T114450
CREATED:20251002T210827Z
LAST-MODIFIED:20260327T142103Z
UID:10003984-1787162400-1787166000@nsbcgriffin.org
SUMMARY:Wednesday Meal
DESCRIPTION:Join us for dinner!  Bring your whole family!  Stay for Bible study! \nCost:  donations
URL:https://nsbcgriffin.org/event/wednesday-meal/2026-08-19/
END:VEVENT
BEGIN:VEVENT
DTSTART;TZID=UTC:20260826T180000
DTEND;TZID=UTC:20260826T190000
DTSTAMP:20260422T114450
CREATED:20251002T210827Z
LAST-MODIFIED:20260327T142103Z
UID:10003985-1787767200-1787770800@nsbcgriffin.org
SUMMARY:Wednesday Meal
DESCRIPTION:Join us for dinner!  Bring your whole family!  Stay for Bible study! \nCost:  donations
URL:https://nsbcgriffin.org/event/wednesday-meal/2026-08-26/
END:VEVENT
BEGIN:VEVENT
DTSTART;TZID=UTC:20260902T180000
DTEND;TZID=UTC:20260902T190000
DTSTAMP:20260422T114450
CREATED:20251002T210827Z
LAST-MODIFIED:20260327T142103Z
UID:10003986-1788372000-1788375600@nsbcgriffin.org
SUMMARY:Wednesday Meal
DESCRIPTION:Join us for dinner!  Bring your whole family!  Stay for Bible study! \nCost:  donations
URL:https://nsbcgriffin.org/event/wednesday-meal/2026-09-02/
END:VEVENT
BEGIN:VEVENT
DTSTART;TZID=UTC:20260909T180000
DTEND;TZID=UTC:20260909T190000
DTSTAMP:20260422T114450
CREATED:20251002T210827Z
LAST-MODIFIED:20260327T142103Z
UID:10003987-1788976800-1788980400@nsbcgriffin.org
SUMMARY:Wednesday Meal
DESCRIPTION:Join us for dinner!  Bring your whole family!  Stay for Bible study! \nCost:  donations
URL:https://nsbcgriffin.org/event/wednesday-meal/2026-09-09/
END:VEVENT
BEGIN:VEVENT
DTSTART;TZID=UTC:20260916T180000
DTEND;TZID=UTC:20260916T190000
DTSTAMP:20260422T114450
CREATED:20251002T210827Z
LAST-MODIFIED:20260327T142103Z
UID:10003988-1789581600-1789585200@nsbcgriffin.org
SUMMARY:Wednesday Meal
DESCRIPTION:Join us for dinner!  Bring your whole family!  Stay for Bible study! \nCost:  donations
URL:https://nsbcgriffin.org/event/wednesday-meal/2026-09-16/
END:VEVENT
BEGIN:VEVENT
DTSTART;TZID=UTC:20260923T180000
DTEND;TZID=UTC:20260923T190000
DTSTAMP:20260422T114450
CREATED:20251002T210827Z
LAST-MODIFIED:20260327T142103Z
UID:10003989-1790186400-1790190000@nsbcgriffin.org
SUMMARY:Wednesday Meal
DESCRIPTION:Join us for dinner!  Bring your whole family!  Stay for Bible study! \nCost:  donations
URL:https://nsbcgriffin.org/event/wednesday-meal/2026-09-23/
END:VEVENT
BEGIN:VEVENT
DTSTART;TZID=UTC:20260930T180000
DTEND;TZID=UTC:20260930T190000
DTSTAMP:20260422T114450
CREATED:20251002T210827Z
LAST-MODIFIED:20260327T142103Z
UID:10003990-1790791200-1790794800@nsbcgriffin.org
SUMMARY:Wednesday Meal
DESCRIPTION:Join us for dinner!  Bring your whole family!  Stay for Bible study! \nCost:  donations
URL:https://nsbcgriffin.org/event/wednesday-meal/2026-09-30/
END:VEVENT
BEGIN:VEVENT
DTSTART;TZID=UTC:20261007T180000
DTEND;TZID=UTC:20261007T190000
DTSTAMP:20260422T114450
CREATED:20251002T210827Z
LAST-MODIFIED:20260327T142103Z
UID:10003991-1791396000-1791399600@nsbcgriffin.org
SUMMARY:Wednesday Meal
DESCRIPTION:Join us for dinner!  Bring your whole family!  Stay for Bible study! \nCost:  donations
URL:https://nsbcgriffin.org/event/wednesday-meal/2026-10-07/
END:VEVENT
BEGIN:VEVENT
DTSTART;TZID=UTC:20261014T180000
DTEND;TZID=UTC:20261014T190000
DTSTAMP:20260422T114450
CREATED:20251002T210827Z
LAST-MODIFIED:20260327T142103Z
UID:10003992-1792000800-1792004400@nsbcgriffin.org
SUMMARY:Wednesday Meal
DESCRIPTION:Join us for dinner!  Bring your whole family!  Stay for Bible study! \nCost:  donations
URL:https://nsbcgriffin.org/event/wednesday-meal/2026-10-14/
END:VEVENT
BEGIN:VEVENT
DTSTART;TZID=UTC:20261021T180000
DTEND;TZID=UTC:20261021T190000
DTSTAMP:20260422T114450
CREATED:20251002T210827Z
LAST-MODIFIED:20260327T142103Z
UID:10003993-1792605600-1792609200@nsbcgriffin.org
SUMMARY:Wednesday Meal
DESCRIPTION:Join us for dinner!  Bring your whole family!  Stay for Bible study! \nCost:  donations
URL:https://nsbcgriffin.org/event/wednesday-meal/2026-10-21/
END:VEVENT
BEGIN:VEVENT
DTSTART;TZID=UTC:20261028T180000
DTEND;TZID=UTC:20261028T190000
DTSTAMP:20260422T114450
CREATED:20251002T210827Z
LAST-MODIFIED:20260327T142103Z
UID:10003994-1793210400-1793214000@nsbcgriffin.org
SUMMARY:Wednesday Meal
DESCRIPTION:Join us for dinner!  Bring your whole family!  Stay for Bible study! \nCost:  donations
URL:https://nsbcgriffin.org/event/wednesday-meal/2026-10-28/
END:VEVENT
BEGIN:VEVENT
DTSTART;TZID=UTC:20261104T180000
DTEND;TZID=UTC:20261104T190000
DTSTAMP:20260422T114450
CREATED:20251002T210827Z
LAST-MODIFIED:20260327T142103Z
UID:10003995-1793815200-1793818800@nsbcgriffin.org
SUMMARY:Wednesday Meal
DESCRIPTION:Join us for dinner!  Bring your whole family!  Stay for Bible study! \nCost:  donations
URL:https://nsbcgriffin.org/event/wednesday-meal/2026-11-04/
END:VEVENT
BEGIN:VEVENT
DTSTART;TZID=UTC:20261111T180000
DTEND;TZID=UTC:20261111T190000
DTSTAMP:20260422T114450
CREATED:20251002T210827Z
LAST-MODIFIED:20260327T142103Z
UID:10003996-1794420000-1794423600@nsbcgriffin.org
SUMMARY:Wednesday Meal
DESCRIPTION:Join us for dinner!  Bring your whole family!  Stay for Bible study! \nCost:  donations
URL:https://nsbcgriffin.org/event/wednesday-meal/2026-11-11/
END:VEVENT
BEGIN:VEVENT
DTSTART;TZID=UTC:20261118T180000
DTEND;TZID=UTC:20261118T190000
DTSTAMP:20260422T114450
CREATED:20251002T210827Z
LAST-MODIFIED:20260327T142103Z
UID:10003997-1795024800-1795028400@nsbcgriffin.org
SUMMARY:Wednesday Meal
DESCRIPTION:Join us for dinner!  Bring your whole family!  Stay for Bible study! \nCost:  donations
URL:https://nsbcgriffin.org/event/wednesday-meal/2026-11-18/
END:VEVENT
END:VCALENDAR