BEGIN:VCALENDAR
VERSION:2.0
PRODID:-//New Salem Baptist Church - ECPv6.15.20//NONSGML v1.0//EN
CALSCALE:GREGORIAN
METHOD:PUBLISH
X-WR-CALNAME:New Salem Baptist Church
X-ORIGINAL-URL:https://nsbcgriffin.org
X-WR-CALDESC:Events for New Salem Baptist Church
REFRESH-INTERVAL;VALUE=DURATION:PT1H
X-Robots-Tag:noindex
X-PUBLISHED-TTL:PT1H
BEGIN:VTIMEZONE
TZID:UTC
BEGIN:STANDARD
TZOFFSETFROM:+0000
TZOFFSETTO:+0000
TZNAME:UTC
DTSTART:20250101T000000
END:STANDARD
END:VTIMEZONE
BEGIN:VEVENT
DTSTART;TZID=UTC:20260217T110000
DTEND;TZID=UTC:20260217T130000
DTSTAMP:20260422T130537
CREATED:20241203T192431Z
LAST-MODIFIED:20241231T152028Z
UID:10003437-1771326000-1771333200@nsbcgriffin.org
SUMMARY:Prayer Tent
DESCRIPTION:Praying with and for our community.  Please view evangelizegeorgia.org for the location each week.
URL:https://nsbcgriffin.org/event/prayer-tent-6/2026-02-17/
END:VEVENT
BEGIN:VEVENT
DTSTART;TZID=UTC:20260218T180000
DTEND;TZID=UTC:20260218T190000
DTSTAMP:20260422T130537
CREATED:20251002T210827Z
LAST-MODIFIED:20260327T142103Z
UID:10003958-1771437600-1771441200@nsbcgriffin.org
SUMMARY:Wednesday Meal
DESCRIPTION:Join us for dinner!  Bring your whole family!  Stay for Bible study! \nCost:  donations
URL:https://nsbcgriffin.org/event/wednesday-meal/2026-02-18/
END:VEVENT
BEGIN:VEVENT
DTSTART;TZID=UTC:20260218T190000
DTEND;TZID=UTC:20260218T200000
DTSTAMP:20260422T130537
CREATED:20240326T153612Z
LAST-MODIFIED:20260327T143303Z
UID:10001897-1771441200-1771444800@nsbcgriffin.org
SUMMARY:Student Ministry
DESCRIPTION:6th-12th grades
URL:https://nsbcgriffin.org/event/student-ministry-2/2026-02-18/
LOCATION:New Salem Baptist Church\, 57 Bicycle Rd\, Griffin\, GA\, 30223\, United States
ATTACH;FMTTYPE=image/jpeg:https://nsbcgriffin.org/wp-content/uploads/2024/03/Youth-Wednesday-5-3-24.jpg
END:VEVENT
BEGIN:VEVENT
DTSTART;TZID=UTC:20260218T190000
DTEND;TZID=UTC:20260218T200000
DTSTAMP:20260422T130537
CREATED:20240328T215148Z
LAST-MODIFIED:20260327T143154Z
UID:10000906-1771441200-1771444800@nsbcgriffin.org
SUMMARY:Bible Study
DESCRIPTION:Studying through the Bible one book at a time.
URL:https://nsbcgriffin.org/event/bible-study/2026-02-18/
LOCATION:New Salem Baptist Church\, 57 Bicycle Rd\, Griffin\, GA\, 30223\, United States
ATTACH;FMTTYPE=image/png:https://nsbcgriffin.org/wp-content/uploads/2024/03/Bible-Study-5-7-25.png
END:VEVENT
BEGIN:VEVENT
DTSTART;TZID=UTC:20260218T190000
DTEND;TZID=UTC:20260218T200000
DTSTAMP:20260422T130537
CREATED:20240430T143849Z
LAST-MODIFIED:20260327T143355Z
UID:10002155-1771441200-1771444800@nsbcgriffin.org
SUMMARY:Kid's Ministry
DESCRIPTION:Children ages 3-5 and Kindergarten through 5th grades.
URL:https://nsbcgriffin.org/event/kids-ministry-2-2/2026-02-18/
LOCATION:New Salem Baptist Church\, 57 Bicycle Rd\, Griffin\, GA\, 30223\, United States
ATTACH;FMTTYPE=image/jpeg:https://nsbcgriffin.org/wp-content/uploads/2024/04/Kids-Ministry-5-5-24.jpg
END:VEVENT
BEGIN:VEVENT
DTSTART;TZID=UTC:20260219T110000
DTEND;TZID=UTC:20260219T120000
DTSTAMP:20260422T130537
CREATED:20240716T203507Z
LAST-MODIFIED:20251208T171407Z
UID:10001612-1771498800-1771502400@nsbcgriffin.org
SUMMARY:Sunshine Ladies
DESCRIPTION:We are a group of ladies that meet for a covered dish meal\, Bible study and fellowship at the New Salem Event Center. We bring items (examples: lotion\, candy\, tissues\, candles\, pens\, word searches\, devotionals\, Chapstick\, etc.) for the Sunshine Baskets that are distributed to those needing encouragement. Ladies of all ages are invited to join us!
URL:https://nsbcgriffin.org/event/sunshine-ladies-2/2026-02-19/
LOCATION:New Salem Event Center\, 776 Vaughn School Rd\, Griffin\, GA\, 30223\, United States
ATTACH;FMTTYPE=image/jpeg:https://nsbcgriffin.org/wp-content/uploads/2024/03/419567020_711704564387205_8418512421664569362_n.jpg
END:VEVENT
BEGIN:VEVENT
DTSTART;TZID=UTC:20260219T190000
DTEND;TZID=UTC:20260219T200000
DTSTAMP:20260422T130537
CREATED:20240326T200542Z
LAST-MODIFIED:20251208T184524Z
UID:10001428-1771527600-1771531200@nsbcgriffin.org
SUMMARY:Stepping Stones to Recovery through Christ
DESCRIPTION:A 12-step recovery program facilitated by Donnie & Tammy Tallman. The combination of recovery and spirituality offers Christians an effective way to work a traditional twelve-step program and name Jesus Christ as their Higher Power. They meet in Room 107.
URL:https://nsbcgriffin.org/event/stepping-stones-to-recovery-through-christ-3/2026-02-19/
LOCATION:New Salem Baptist Church\, 57 Bicycle Rd\, Griffin\, GA\, 30223\, United States
ATTACH;FMTTYPE=image/png:https://nsbcgriffin.org/wp-content/uploads/2024/03/Stepping-Stones-to-Recover-3-13-25-Facebook-Post.png
END:VEVENT
BEGIN:VEVENT
DTSTART;TZID=UTC:20260219T190000
DTEND;TZID=UTC:20260219T203000
DTSTAMP:20260422T130537
CREATED:20240326T200416Z
LAST-MODIFIED:20251208T184413Z
UID:10000125-1771527600-1771533000@nsbcgriffin.org
SUMMARY:Active FAITH
DESCRIPTION:This is a walking/exercise group that is open to anyone and all fitness levels. Children are welcome if their parents can supervise their walking/use of stroller. No childcare provided. We will have a time of fellowship and Bible study each week. We will be growing in both spiritual and physical fitness together.
URL:https://nsbcgriffin.org/event/active-faith-2/2026-02-19/
LOCATION:New Salem Baptist Church\, 57 Bicycle Rd\, Griffin\, GA\, 30223\, United States
ATTACH;FMTTYPE=image/jpeg:https://nsbcgriffin.org/wp-content/uploads/2024/01/Active-FAITH-1-8-23.jpg
END:VEVENT
BEGIN:VEVENT
DTSTART;TZID=UTC:20260220T190000
DTEND;TZID=UTC:20260220T200000
DTSTAMP:20260422T130537
CREATED:20240423T163009Z
LAST-MODIFIED:20250210T203115Z
UID:10002473-1771614000-1771617600@nsbcgriffin.org
SUMMARY:Faith Riders
DESCRIPTION:F.A.I.T.H. Riders consist of ordinary people from every walk of life who share a common desire to serve our Lord through motorcycle ministry.\nWe exist to share the saving Gospel of Jesus Christ intentionally and unapologetically to all who have yet to accept Him and to build up the body of Christ through worship\, fellowship\, discipleship and serving.\nWhile most of our members do ride motorcycles\, some choose not to and yet still serve in a great capacity and are an integral part of the ministry.\nWomen are welcomed and encouraged to become a part of F.A.I.T.H. Riders\nFor more information\, visit the F.A.I.T.H. Riders’ FAQ page-https://faithriders.com/frequently-asked-questions/
URL:https://nsbcgriffin.org/event/faith-riders/2026-02-20/
ATTACH;FMTTYPE=image/png:https://nsbcgriffin.org/wp-content/uploads/2024/04/Faith-Riders-logo-2024.png
END:VEVENT
BEGIN:VEVENT
DTSTART;TZID=UTC:20260221T160000
DTEND;TZID=UTC:20260221T170000
DTSTAMP:20260422T130537
CREATED:20240326T192148Z
LAST-MODIFIED:20240328T220831Z
UID:10001168-1771689600-1771693200@nsbcgriffin.org
SUMMARY:Brightmoor Assisted Living Ministry
DESCRIPTION:Since the senior citizens of Brightmoor Assisted Living can not attend regular church services\, we are ministering to them through music and devotions each week at their residence.
URL:https://nsbcgriffin.org/event/brightmoor-assisted-living-ministry-2/2026-02-21/
LOCATION:Brightmoor Assisted Living\, 3223 Newnan Rd\, Griffin\, Georgia\, 30223
END:VEVENT
BEGIN:VEVENT
DTSTART;TZID=UTC:20260223T183000
DTEND;TZID=UTC:20260223T193000
DTSTAMP:20260422T130537
CREATED:20241008T221507Z
LAST-MODIFIED:20250507T172654Z
UID:10002754-1771871400-1771875000@nsbcgriffin.org
SUMMARY:Zumba-LADIES ONLY
DESCRIPTION:This is a free exercise class for all skill levels.  Ladies ONLY!  Childcare not provided.
URL:https://nsbcgriffin.org/event/zumba-ladies-only/2026-02-23/
END:VEVENT
BEGIN:VEVENT
DTSTART;TZID=UTC:20260223T193000
DTEND;TZID=UTC:20260223T210000
DTSTAMP:20260422T130538
CREATED:20260127T225455Z
LAST-MODIFIED:20260127T225455Z
UID:10004376-1771875000-1771880400@nsbcgriffin.org
SUMMARY:GriefShare
DESCRIPTION:GriefShare is a 13-week cycle. It is faith-based and reaches out to those who have lost a spouse\, child\, parent\, sibling\, friend or anyone close to you. This ministry is for our church members\, as well as\, our community. It is a friendly\, caring group of people who will walk alongside you through one of life’s most difficult experiences. You don’t have to go through the grieving process alone. You’ll gain access to valuable GriefShare resources to help you recover from your loss and look forward to rebuilding your life.
URL:https://nsbcgriffin.org/event/griefshare-5/2026-02-23/
ATTACH;FMTTYPE=image/png:https://nsbcgriffin.org/wp-content/uploads/2026/01/GriefShare-01-27-26-6-x-4-in.png
END:VEVENT
BEGIN:VEVENT
DTSTART;TZID=UTC:20260224T110000
DTEND;TZID=UTC:20260224T130000
DTSTAMP:20260422T130538
CREATED:20241203T192431Z
LAST-MODIFIED:20241231T152028Z
UID:10003438-1771930800-1771938000@nsbcgriffin.org
SUMMARY:Prayer Tent
DESCRIPTION:Praying with and for our community.  Please view evangelizegeorgia.org for the location each week.
URL:https://nsbcgriffin.org/event/prayer-tent-6/2026-02-24/
END:VEVENT
BEGIN:VEVENT
DTSTART;TZID=UTC:20260225T180000
DTEND;TZID=UTC:20260225T190000
DTSTAMP:20260422T130538
CREATED:20251002T210827Z
LAST-MODIFIED:20260327T142103Z
UID:10003959-1772042400-1772046000@nsbcgriffin.org
SUMMARY:Wednesday Meal
DESCRIPTION:Join us for dinner!  Bring your whole family!  Stay for Bible study! \nCost:  donations
URL:https://nsbcgriffin.org/event/wednesday-meal/2026-02-25/
END:VEVENT
BEGIN:VEVENT
DTSTART;TZID=UTC:20260225T190000
DTEND;TZID=UTC:20260225T200000
DTSTAMP:20260422T130538
CREATED:20240326T153612Z
LAST-MODIFIED:20260327T143303Z
UID:10001898-1772046000-1772049600@nsbcgriffin.org
SUMMARY:Student Ministry
DESCRIPTION:6th-12th grades
URL:https://nsbcgriffin.org/event/student-ministry-2/2026-02-25/
LOCATION:New Salem Baptist Church\, 57 Bicycle Rd\, Griffin\, GA\, 30223\, United States
ATTACH;FMTTYPE=image/jpeg:https://nsbcgriffin.org/wp-content/uploads/2024/03/Youth-Wednesday-5-3-24.jpg
END:VEVENT
BEGIN:VEVENT
DTSTART;TZID=UTC:20260225T190000
DTEND;TZID=UTC:20260225T200000
DTSTAMP:20260422T130538
CREATED:20240328T215148Z
LAST-MODIFIED:20260327T143154Z
UID:10000907-1772046000-1772049600@nsbcgriffin.org
SUMMARY:Bible Study
DESCRIPTION:Studying through the Bible one book at a time.
URL:https://nsbcgriffin.org/event/bible-study/2026-02-25/
LOCATION:New Salem Baptist Church\, 57 Bicycle Rd\, Griffin\, GA\, 30223\, United States
ATTACH;FMTTYPE=image/png:https://nsbcgriffin.org/wp-content/uploads/2024/03/Bible-Study-5-7-25.png
END:VEVENT
BEGIN:VEVENT
DTSTART;TZID=UTC:20260225T190000
DTEND;TZID=UTC:20260225T200000
DTSTAMP:20260422T130538
CREATED:20240430T143849Z
LAST-MODIFIED:20260327T143355Z
UID:10002156-1772046000-1772049600@nsbcgriffin.org
SUMMARY:Kid's Ministry
DESCRIPTION:Children ages 3-5 and Kindergarten through 5th grades.
URL:https://nsbcgriffin.org/event/kids-ministry-2-2/2026-02-25/
LOCATION:New Salem Baptist Church\, 57 Bicycle Rd\, Griffin\, GA\, 30223\, United States
ATTACH;FMTTYPE=image/jpeg:https://nsbcgriffin.org/wp-content/uploads/2024/04/Kids-Ministry-5-5-24.jpg
END:VEVENT
BEGIN:VEVENT
DTSTART;TZID=UTC:20260226T190000
DTEND;TZID=UTC:20260226T200000
DTSTAMP:20260422T130538
CREATED:20240326T200542Z
LAST-MODIFIED:20251208T184524Z
UID:10001429-1772132400-1772136000@nsbcgriffin.org
SUMMARY:Stepping Stones to Recovery through Christ
DESCRIPTION:A 12-step recovery program facilitated by Donnie & Tammy Tallman. The combination of recovery and spirituality offers Christians an effective way to work a traditional twelve-step program and name Jesus Christ as their Higher Power. They meet in Room 107.
URL:https://nsbcgriffin.org/event/stepping-stones-to-recovery-through-christ-3/2026-02-26/
LOCATION:New Salem Baptist Church\, 57 Bicycle Rd\, Griffin\, GA\, 30223\, United States
ATTACH;FMTTYPE=image/png:https://nsbcgriffin.org/wp-content/uploads/2024/03/Stepping-Stones-to-Recover-3-13-25-Facebook-Post.png
END:VEVENT
BEGIN:VEVENT
DTSTART;TZID=UTC:20260226T190000
DTEND;TZID=UTC:20260226T203000
DTSTAMP:20260422T130538
CREATED:20240326T200416Z
LAST-MODIFIED:20251208T184413Z
UID:10000126-1772132400-1772137800@nsbcgriffin.org
SUMMARY:Active FAITH
DESCRIPTION:This is a walking/exercise group that is open to anyone and all fitness levels. Children are welcome if their parents can supervise their walking/use of stroller. No childcare provided. We will have a time of fellowship and Bible study each week. We will be growing in both spiritual and physical fitness together.
URL:https://nsbcgriffin.org/event/active-faith-2/2026-02-26/
LOCATION:New Salem Baptist Church\, 57 Bicycle Rd\, Griffin\, GA\, 30223\, United States
ATTACH;FMTTYPE=image/jpeg:https://nsbcgriffin.org/wp-content/uploads/2024/01/Active-FAITH-1-8-23.jpg
END:VEVENT
BEGIN:VEVENT
DTSTART;TZID=UTC:20260228T160000
DTEND;TZID=UTC:20260228T170000
DTSTAMP:20260422T130538
CREATED:20240326T192148Z
LAST-MODIFIED:20240328T220831Z
UID:10001169-1772294400-1772298000@nsbcgriffin.org
SUMMARY:Brightmoor Assisted Living Ministry
DESCRIPTION:Since the senior citizens of Brightmoor Assisted Living can not attend regular church services\, we are ministering to them through music and devotions each week at their residence.
URL:https://nsbcgriffin.org/event/brightmoor-assisted-living-ministry-2/2026-02-28/
LOCATION:Brightmoor Assisted Living\, 3223 Newnan Rd\, Griffin\, Georgia\, 30223
END:VEVENT
BEGIN:VEVENT
DTSTART;TZID=UTC:20260301T000000
DTEND;TZID=UTC:20260327T180000
DTSTAMP:20260422T130538
CREATED:20260127T230041Z
LAST-MODIFIED:20260127T230041Z
UID:10004387-1772323200-1774634400@nsbcgriffin.org
SUMMARY:New Salem Fishing Rodeo
DESCRIPTION:You can fish for large mouth bass or shoal bass from March 1-27 in all Georgia waters.  To participate you need to register at Fishdonkey.com.  The fishing app will manage all your catches and keep a running tally for you.  We will have a prize given every Friday at 8:00 pm on the New Salem Outdoor Ministry Facebook page. You must be logged on to win. \nYou can find our fishing rodeo listed as New Salem BC on the Fishdonkey app.  All rules and regulations are listed there.  Prizes for largest fish and stringer will be given on March 27.  It is all online.  Let’s get fishing!
URL:https://nsbcgriffin.org/event/new-salem-fishing-rodeo/
ATTACH;FMTTYPE=image/png:https://nsbcgriffin.org/wp-content/uploads/2026/01/Fishing-Rodeo-WEBSITE-1-23-26-4.25-x-5.5-in.png
END:VEVENT
BEGIN:VEVENT
DTSTART;TZID=UTC:20260302T183000
DTEND;TZID=UTC:20260302T193000
DTSTAMP:20260422T130538
CREATED:20241008T221507Z
LAST-MODIFIED:20250507T172654Z
UID:10002755-1772476200-1772479800@nsbcgriffin.org
SUMMARY:Zumba-LADIES ONLY
DESCRIPTION:This is a free exercise class for all skill levels.  Ladies ONLY!  Childcare not provided.
URL:https://nsbcgriffin.org/event/zumba-ladies-only/2026-03-02/
END:VEVENT
BEGIN:VEVENT
DTSTART;TZID=UTC:20260302T193000
DTEND;TZID=UTC:20260302T210000
DTSTAMP:20260422T130538
CREATED:20260127T225455Z
LAST-MODIFIED:20260127T225455Z
UID:10004377-1772479800-1772485200@nsbcgriffin.org
SUMMARY:GriefShare
DESCRIPTION:GriefShare is a 13-week cycle. It is faith-based and reaches out to those who have lost a spouse\, child\, parent\, sibling\, friend or anyone close to you. This ministry is for our church members\, as well as\, our community. It is a friendly\, caring group of people who will walk alongside you through one of life’s most difficult experiences. You don’t have to go through the grieving process alone. You’ll gain access to valuable GriefShare resources to help you recover from your loss and look forward to rebuilding your life.
URL:https://nsbcgriffin.org/event/griefshare-5/2026-03-02/
ATTACH;FMTTYPE=image/png:https://nsbcgriffin.org/wp-content/uploads/2026/01/GriefShare-01-27-26-6-x-4-in.png
END:VEVENT
BEGIN:VEVENT
DTSTART;TZID=UTC:20260303T110000
DTEND;TZID=UTC:20260303T130000
DTSTAMP:20260422T130538
CREATED:20241203T192431Z
LAST-MODIFIED:20241231T152028Z
UID:10003439-1772535600-1772542800@nsbcgriffin.org
SUMMARY:Prayer Tent
DESCRIPTION:Praying with and for our community.  Please view evangelizegeorgia.org for the location each week.
URL:https://nsbcgriffin.org/event/prayer-tent-6/2026-03-03/
END:VEVENT
BEGIN:VEVENT
DTSTART;TZID=UTC:20260304T180000
DTEND;TZID=UTC:20260304T190000
DTSTAMP:20260422T130538
CREATED:20251002T210827Z
LAST-MODIFIED:20260327T142103Z
UID:10003960-1772647200-1772650800@nsbcgriffin.org
SUMMARY:Wednesday Meal
DESCRIPTION:Join us for dinner!  Bring your whole family!  Stay for Bible study! \nCost:  donations
URL:https://nsbcgriffin.org/event/wednesday-meal/2026-03-04/
END:VEVENT
BEGIN:VEVENT
DTSTART;TZID=UTC:20260304T190000
DTEND;TZID=UTC:20260304T200000
DTSTAMP:20260422T130538
CREATED:20240326T153612Z
LAST-MODIFIED:20260327T143303Z
UID:10001899-1772650800-1772654400@nsbcgriffin.org
SUMMARY:Student Ministry
DESCRIPTION:6th-12th grades
URL:https://nsbcgriffin.org/event/student-ministry-2/2026-03-04/
LOCATION:New Salem Baptist Church\, 57 Bicycle Rd\, Griffin\, GA\, 30223\, United States
ATTACH;FMTTYPE=image/jpeg:https://nsbcgriffin.org/wp-content/uploads/2024/03/Youth-Wednesday-5-3-24.jpg
END:VEVENT
BEGIN:VEVENT
DTSTART;TZID=UTC:20260304T190000
DTEND;TZID=UTC:20260304T200000
DTSTAMP:20260422T130538
CREATED:20240328T215148Z
LAST-MODIFIED:20260327T143154Z
UID:10000908-1772650800-1772654400@nsbcgriffin.org
SUMMARY:Bible Study
DESCRIPTION:Studying through the Bible one book at a time.
URL:https://nsbcgriffin.org/event/bible-study/2026-03-04/
LOCATION:New Salem Baptist Church\, 57 Bicycle Rd\, Griffin\, GA\, 30223\, United States
ATTACH;FMTTYPE=image/png:https://nsbcgriffin.org/wp-content/uploads/2024/03/Bible-Study-5-7-25.png
END:VEVENT
BEGIN:VEVENT
DTSTART;TZID=UTC:20260304T190000
DTEND;TZID=UTC:20260304T200000
DTSTAMP:20260422T130538
CREATED:20240430T143849Z
LAST-MODIFIED:20260327T143355Z
UID:10002157-1772650800-1772654400@nsbcgriffin.org
SUMMARY:Kid's Ministry
DESCRIPTION:Children ages 3-5 and Kindergarten through 5th grades.
URL:https://nsbcgriffin.org/event/kids-ministry-2-2/2026-03-04/
LOCATION:New Salem Baptist Church\, 57 Bicycle Rd\, Griffin\, GA\, 30223\, United States
ATTACH;FMTTYPE=image/jpeg:https://nsbcgriffin.org/wp-content/uploads/2024/04/Kids-Ministry-5-5-24.jpg
END:VEVENT
BEGIN:VEVENT
DTSTART;TZID=UTC:20260305T190000
DTEND;TZID=UTC:20260305T200000
DTSTAMP:20260422T130538
CREATED:20240326T200542Z
LAST-MODIFIED:20251208T184524Z
UID:10001430-1772737200-1772740800@nsbcgriffin.org
SUMMARY:Stepping Stones to Recovery through Christ
DESCRIPTION:A 12-step recovery program facilitated by Donnie & Tammy Tallman. The combination of recovery and spirituality offers Christians an effective way to work a traditional twelve-step program and name Jesus Christ as their Higher Power. They meet in Room 107.
URL:https://nsbcgriffin.org/event/stepping-stones-to-recovery-through-christ-3/2026-03-05/
LOCATION:New Salem Baptist Church\, 57 Bicycle Rd\, Griffin\, GA\, 30223\, United States
ATTACH;FMTTYPE=image/png:https://nsbcgriffin.org/wp-content/uploads/2024/03/Stepping-Stones-to-Recover-3-13-25-Facebook-Post.png
END:VEVENT
BEGIN:VEVENT
DTSTART;TZID=UTC:20260305T190000
DTEND;TZID=UTC:20260305T203000
DTSTAMP:20260422T130538
CREATED:20240326T200416Z
LAST-MODIFIED:20251208T184413Z
UID:10000127-1772737200-1772742600@nsbcgriffin.org
SUMMARY:Active FAITH
DESCRIPTION:This is a walking/exercise group that is open to anyone and all fitness levels. Children are welcome if their parents can supervise their walking/use of stroller. No childcare provided. We will have a time of fellowship and Bible study each week. We will be growing in both spiritual and physical fitness together.
URL:https://nsbcgriffin.org/event/active-faith-2/2026-03-05/
LOCATION:New Salem Baptist Church\, 57 Bicycle Rd\, Griffin\, GA\, 30223\, United States
ATTACH;FMTTYPE=image/jpeg:https://nsbcgriffin.org/wp-content/uploads/2024/01/Active-FAITH-1-8-23.jpg
END:VEVENT
END:VCALENDAR