BEGIN:VCALENDAR
VERSION:2.0
PRODID:-//New Salem Baptist Church - ECPv6.15.20//NONSGML v1.0//EN
CALSCALE:GREGORIAN
METHOD:PUBLISH
X-ORIGINAL-URL:https://nsbcgriffin.org
X-WR-CALDESC:Events for New Salem Baptist Church
REFRESH-INTERVAL;VALUE=DURATION:PT1H
X-Robots-Tag:noindex
X-PUBLISHED-TTL:PT1H
BEGIN:VTIMEZONE
TZID:UTC
BEGIN:STANDARD
TZOFFSETFROM:+0000
TZOFFSETTO:+0000
TZNAME:UTC
DTSTART:20240101T000000
END:STANDARD
END:VTIMEZONE
BEGIN:VEVENT
DTSTART;TZID=UTC:20250409T190000
DTEND;TZID=UTC:20250409T200000
DTSTAMP:20260419T145743
CREATED:20240326T153612Z
LAST-MODIFIED:20260327T143303Z
UID:10001852-1744225200-1744228800@nsbcgriffin.org
SUMMARY:Student Ministry
DESCRIPTION:6th-12th grades
URL:https://nsbcgriffin.org/event/student-ministry-2/2025-04-09/
LOCATION:New Salem Baptist Church\, 57 Bicycle Rd\, Griffin\, GA\, 30223\, United States
ATTACH;FMTTYPE=image/jpeg:https://nsbcgriffin.org/wp-content/uploads/2024/03/Youth-Wednesday-5-3-24.jpg
END:VEVENT
BEGIN:VEVENT
DTSTART;TZID=UTC:20250409T190000
DTEND;TZID=UTC:20250409T200000
DTSTAMP:20260419T145743
CREATED:20240328T215148Z
LAST-MODIFIED:20260327T143154Z
UID:10000861-1744225200-1744228800@nsbcgriffin.org
SUMMARY:Bible Study
DESCRIPTION:Studying through the Bible one book at a time.
URL:https://nsbcgriffin.org/event/bible-study/2025-04-09/
LOCATION:New Salem Baptist Church\, 57 Bicycle Rd\, Griffin\, GA\, 30223\, United States
ATTACH;FMTTYPE=image/png:https://nsbcgriffin.org/wp-content/uploads/2024/03/Bible-Study-5-7-25.png
END:VEVENT
BEGIN:VEVENT
DTSTART;TZID=UTC:20250409T190000
DTEND;TZID=UTC:20250409T200000
DTSTAMP:20260419T145743
CREATED:20240430T143849Z
LAST-MODIFIED:20260327T143355Z
UID:10002110-1744225200-1744228800@nsbcgriffin.org
SUMMARY:Kid's Ministry
DESCRIPTION:Children ages 3-5 and Kindergarten through 5th grades.
URL:https://nsbcgriffin.org/event/kids-ministry-2-2/2025-04-09/
LOCATION:New Salem Baptist Church\, 57 Bicycle Rd\, Griffin\, GA\, 30223\, United States
ATTACH;FMTTYPE=image/jpeg:https://nsbcgriffin.org/wp-content/uploads/2024/04/Kids-Ministry-5-5-24.jpg
END:VEVENT
BEGIN:VEVENT
DTSTART;TZID=UTC:20250410T190000
DTEND;TZID=UTC:20250410T200000
DTSTAMP:20260419T145743
CREATED:20240326T200542Z
LAST-MODIFIED:20251208T184524Z
UID:10001383-1744311600-1744315200@nsbcgriffin.org
SUMMARY:Stepping Stones to Recovery through Christ
DESCRIPTION:A 12-step recovery program facilitated by Donnie & Tammy Tallman. The combination of recovery and spirituality offers Christians an effective way to work a traditional twelve-step program and name Jesus Christ as their Higher Power. They meet in Room 107.
URL:https://nsbcgriffin.org/event/stepping-stones-to-recovery-through-christ-3/2025-04-10/
LOCATION:New Salem Baptist Church\, 57 Bicycle Rd\, Griffin\, GA\, 30223\, United States
ATTACH;FMTTYPE=image/png:https://nsbcgriffin.org/wp-content/uploads/2024/03/Stepping-Stones-to-Recover-3-13-25-Facebook-Post.png
END:VEVENT
BEGIN:VEVENT
DTSTART;TZID=UTC:20250410T190000
DTEND;TZID=UTC:20250410T203000
DTSTAMP:20260419T145743
CREATED:20240326T200416Z
LAST-MODIFIED:20251208T184413Z
UID:10000080-1744311600-1744317000@nsbcgriffin.org
SUMMARY:Active FAITH
DESCRIPTION:This is a walking/exercise group that is open to anyone and all fitness levels. Children are welcome if their parents can supervise their walking/use of stroller. No childcare provided. We will have a time of fellowship and Bible study each week. We will be growing in both spiritual and physical fitness together.
URL:https://nsbcgriffin.org/event/active-faith-2/2025-04-10/
LOCATION:New Salem Baptist Church\, 57 Bicycle Rd\, Griffin\, GA\, 30223\, United States
ATTACH;FMTTYPE=image/jpeg:https://nsbcgriffin.org/wp-content/uploads/2024/01/Active-FAITH-1-8-23.jpg
END:VEVENT
BEGIN:VEVENT
DTSTART;TZID=UTC:20250412T160000
DTEND;TZID=UTC:20250412T170000
DTSTAMP:20260419T145743
CREATED:20240326T192148Z
LAST-MODIFIED:20240328T220831Z
UID:10001123-1744473600-1744477200@nsbcgriffin.org
SUMMARY:Brightmoor Assisted Living Ministry
DESCRIPTION:Since the senior citizens of Brightmoor Assisted Living can not attend regular church services\, we are ministering to them through music and devotions each week at their residence.
URL:https://nsbcgriffin.org/event/brightmoor-assisted-living-ministry-2/2025-04-12/
LOCATION:Brightmoor Assisted Living\, 3223 Newnan Rd\, Griffin\, Georgia\, 30223
END:VEVENT
BEGIN:VEVENT
DTSTART;TZID=UTC:20250414T183000
DTEND;TZID=UTC:20250414T193000
DTSTAMP:20260419T145743
CREATED:20241008T221507Z
LAST-MODIFIED:20250507T172654Z
UID:10002709-1744655400-1744659000@nsbcgriffin.org
SUMMARY:Zumba-LADIES ONLY
DESCRIPTION:This is a free exercise class for all skill levels.  Ladies ONLY!  Childcare not provided.
URL:https://nsbcgriffin.org/event/zumba-ladies-only/2025-04-14/
END:VEVENT
BEGIN:VEVENT
DTSTART;TZID=UTC:20250414T193000
DTEND;TZID=UTC:20250414T210000
DTSTAMP:20260419T145743
CREATED:20250210T202921Z
LAST-MODIFIED:20250210T202921Z
UID:10003690-1744659000-1744664400@nsbcgriffin.org
SUMMARY:GriefShare
DESCRIPTION:GriefShare is a 13-week cycle. It is faith-based and reaches out to those who have lost a spouse\, child\, parent\, sibling\, friend or anyone close to you. This ministry is for our church members\, as well as\, our community. It is a friendly\, caring group of people who will walk alongside you through one of life’s most difficult experiences. You don’t have to go through the grieving process alone. You’ll gain access to valuable GriefShare resources to help you recover from your loss and look forward to rebuilding your life.
URL:https://nsbcgriffin.org/event/griefshare-4/2025-04-14/
ATTACH;FMTTYPE=image/png:https://nsbcgriffin.org/wp-content/uploads/2025/02/GriefShare-2-10-25-INSTAGRAM-1080-x-1080-px.png
END:VEVENT
BEGIN:VEVENT
DTSTART;TZID=UTC:20250415T110000
DTEND;TZID=UTC:20250415T130000
DTSTAMP:20260419T145743
CREATED:20241203T192431Z
LAST-MODIFIED:20241231T152028Z
UID:10003393-1744714800-1744722000@nsbcgriffin.org
SUMMARY:Prayer Tent
DESCRIPTION:Praying with and for our community.  Please view evangelizegeorgia.org for the location each week.
URL:https://nsbcgriffin.org/event/prayer-tent-6/2025-04-15/
END:VEVENT
BEGIN:VEVENT
DTSTART;TZID=UTC:20250415T190000
DTEND;TZID=UTC:20250415T200000
DTSTAMP:20260419T145743
CREATED:20241004T224813Z
LAST-MODIFIED:20241231T151819Z
UID:10003254-1744743600-1744747200@nsbcgriffin.org
SUMMARY:Wholehearts-Young Adult Night of Worship
DESCRIPTION:We meet every other Tuesday to worship together through music\, fellowship\, and the reading of God’s word.  (See the calendar for dates.)  We will focus on relatable series topics for young adults. \nFREE coffee\, snacks\, and LIVE MUSIC! \nFollow us on Facebook:  Wholeheart Ministry
URL:https://nsbcgriffin.org/event/young-adult-night-of-worship/2025-04-15/
LOCATION:New Salem Baptist Church\, 57 Bicycle Rd\, Griffin\, GA\, 30223\, United States
ATTACH;FMTTYPE=image/jpeg:https://nsbcgriffin.org/wp-content/uploads/2024/10/Wholeheart-Ministry.jpg
END:VEVENT
BEGIN:VEVENT
DTSTART;TZID=UTC:20250416T190000
DTEND;TZID=UTC:20250416T200000
DTSTAMP:20260419T145743
CREATED:20240326T153612Z
LAST-MODIFIED:20260327T143303Z
UID:10001853-1744830000-1744833600@nsbcgriffin.org
SUMMARY:Student Ministry
DESCRIPTION:6th-12th grades
URL:https://nsbcgriffin.org/event/student-ministry-2/2025-04-16/
LOCATION:New Salem Baptist Church\, 57 Bicycle Rd\, Griffin\, GA\, 30223\, United States
ATTACH;FMTTYPE=image/jpeg:https://nsbcgriffin.org/wp-content/uploads/2024/03/Youth-Wednesday-5-3-24.jpg
END:VEVENT
BEGIN:VEVENT
DTSTART;TZID=UTC:20250416T190000
DTEND;TZID=UTC:20250416T200000
DTSTAMP:20260419T145743
CREATED:20240328T215148Z
LAST-MODIFIED:20260327T143154Z
UID:10000862-1744830000-1744833600@nsbcgriffin.org
SUMMARY:Bible Study
DESCRIPTION:Studying through the Bible one book at a time.
URL:https://nsbcgriffin.org/event/bible-study/2025-04-16/
LOCATION:New Salem Baptist Church\, 57 Bicycle Rd\, Griffin\, GA\, 30223\, United States
ATTACH;FMTTYPE=image/png:https://nsbcgriffin.org/wp-content/uploads/2024/03/Bible-Study-5-7-25.png
END:VEVENT
BEGIN:VEVENT
DTSTART;TZID=UTC:20250416T190000
DTEND;TZID=UTC:20250416T200000
DTSTAMP:20260419T145743
CREATED:20240430T143849Z
LAST-MODIFIED:20260327T143355Z
UID:10002111-1744830000-1744833600@nsbcgriffin.org
SUMMARY:Kid's Ministry
DESCRIPTION:Children ages 3-5 and Kindergarten through 5th grades.
URL:https://nsbcgriffin.org/event/kids-ministry-2-2/2025-04-16/
LOCATION:New Salem Baptist Church\, 57 Bicycle Rd\, Griffin\, GA\, 30223\, United States
ATTACH;FMTTYPE=image/jpeg:https://nsbcgriffin.org/wp-content/uploads/2024/04/Kids-Ministry-5-5-24.jpg
END:VEVENT
BEGIN:VEVENT
DTSTART;TZID=UTC:20250417T110000
DTEND;TZID=UTC:20250417T120000
DTSTAMP:20260419T145743
CREATED:20240716T203507Z
LAST-MODIFIED:20251208T171407Z
UID:10001602-1744887600-1744891200@nsbcgriffin.org
SUMMARY:Sunshine Ladies
DESCRIPTION:We are a group of ladies that meet for a covered dish meal\, Bible study and fellowship at the New Salem Event Center. We bring items (examples: lotion\, candy\, tissues\, candles\, pens\, word searches\, devotionals\, Chapstick\, etc.) for the Sunshine Baskets that are distributed to those needing encouragement. Ladies of all ages are invited to join us!
URL:https://nsbcgriffin.org/event/sunshine-ladies-2/2025-04-17/
LOCATION:New Salem Event Center\, 776 Vaughn School Rd\, Griffin\, GA\, 30223\, United States
ATTACH;FMTTYPE=image/jpeg:https://nsbcgriffin.org/wp-content/uploads/2024/03/419567020_711704564387205_8418512421664569362_n.jpg
END:VEVENT
BEGIN:VEVENT
DTSTART;TZID=UTC:20250417T190000
DTEND;TZID=UTC:20250417T200000
DTSTAMP:20260419T145743
CREATED:20240326T200542Z
LAST-MODIFIED:20251208T184524Z
UID:10001384-1744916400-1744920000@nsbcgriffin.org
SUMMARY:Stepping Stones to Recovery through Christ
DESCRIPTION:A 12-step recovery program facilitated by Donnie & Tammy Tallman. The combination of recovery and spirituality offers Christians an effective way to work a traditional twelve-step program and name Jesus Christ as their Higher Power. They meet in Room 107.
URL:https://nsbcgriffin.org/event/stepping-stones-to-recovery-through-christ-3/2025-04-17/
LOCATION:New Salem Baptist Church\, 57 Bicycle Rd\, Griffin\, GA\, 30223\, United States
ATTACH;FMTTYPE=image/png:https://nsbcgriffin.org/wp-content/uploads/2024/03/Stepping-Stones-to-Recover-3-13-25-Facebook-Post.png
END:VEVENT
BEGIN:VEVENT
DTSTART;TZID=UTC:20250417T190000
DTEND;TZID=UTC:20250417T203000
DTSTAMP:20260419T145743
CREATED:20240326T200416Z
LAST-MODIFIED:20251208T184413Z
UID:10000081-1744916400-1744921800@nsbcgriffin.org
SUMMARY:Active FAITH
DESCRIPTION:This is a walking/exercise group that is open to anyone and all fitness levels. Children are welcome if their parents can supervise their walking/use of stroller. No childcare provided. We will have a time of fellowship and Bible study each week. We will be growing in both spiritual and physical fitness together.
URL:https://nsbcgriffin.org/event/active-faith-2/2025-04-17/
LOCATION:New Salem Baptist Church\, 57 Bicycle Rd\, Griffin\, GA\, 30223\, United States
ATTACH;FMTTYPE=image/jpeg:https://nsbcgriffin.org/wp-content/uploads/2024/01/Active-FAITH-1-8-23.jpg
END:VEVENT
BEGIN:VEVENT
DTSTART;TZID=UTC:20250418T180000
DTEND;TZID=UTC:20250418T190000
DTSTAMP:20260419T145743
CREATED:20250328T224147Z
LAST-MODIFIED:20250328T224147Z
UID:10003782-1744999200-1745002800@nsbcgriffin.org
SUMMARY:Good Friday Service
DESCRIPTION:
URL:https://nsbcgriffin.org/event/good-friday-service-2/
ATTACH;FMTTYPE=image/png:https://nsbcgriffin.org/wp-content/uploads/2025/03/Good-Friday-Service-INSTAGRAM-3-30-25-1080-x-1080-px.png
END:VEVENT
BEGIN:VEVENT
DTSTART;TZID=UTC:20250418T190000
DTEND;TZID=UTC:20250418T200000
DTSTAMP:20260419T145743
CREATED:20240423T163009Z
LAST-MODIFIED:20250210T203115Z
UID:10002463-1745002800-1745006400@nsbcgriffin.org
SUMMARY:Faith Riders
DESCRIPTION:F.A.I.T.H. Riders consist of ordinary people from every walk of life who share a common desire to serve our Lord through motorcycle ministry.\nWe exist to share the saving Gospel of Jesus Christ intentionally and unapologetically to all who have yet to accept Him and to build up the body of Christ through worship\, fellowship\, discipleship and serving.\nWhile most of our members do ride motorcycles\, some choose not to and yet still serve in a great capacity and are an integral part of the ministry.\nWomen are welcomed and encouraged to become a part of F.A.I.T.H. Riders\nFor more information\, visit the F.A.I.T.H. Riders’ FAQ page-https://faithriders.com/frequently-asked-questions/
URL:https://nsbcgriffin.org/event/faith-riders/2025-04-18/
ATTACH;FMTTYPE=image/png:https://nsbcgriffin.org/wp-content/uploads/2024/04/Faith-Riders-logo-2024.png
END:VEVENT
BEGIN:VEVENT
DTSTART;TZID=UTC:20250419T160000
DTEND;TZID=UTC:20250419T170000
DTSTAMP:20260419T145743
CREATED:20240326T192148Z
LAST-MODIFIED:20240328T220831Z
UID:10001124-1745078400-1745082000@nsbcgriffin.org
SUMMARY:Brightmoor Assisted Living Ministry
DESCRIPTION:Since the senior citizens of Brightmoor Assisted Living can not attend regular church services\, we are ministering to them through music and devotions each week at their residence.
URL:https://nsbcgriffin.org/event/brightmoor-assisted-living-ministry-2/2025-04-19/
LOCATION:Brightmoor Assisted Living\, 3223 Newnan Rd\, Griffin\, Georgia\, 30223
END:VEVENT
BEGIN:VEVENT
DTSTART;TZID=UTC:20250419T180000
DTEND;TZID=UTC:20250419T200000
DTSTAMP:20260419T145743
CREATED:20250328T215954Z
LAST-MODIFIED:20250710T221030Z
UID:10003781-1745085600-1745092800@nsbcgriffin.org
SUMMARY:F.A.I.T.H. Riders' BIKE NIGHT
DESCRIPTION:All bike enthusiasts join us at Truett’s Grill in Griffin\, GA.  Prize for best bike!
URL:https://nsbcgriffin.org/event/f-a-i-t-h-riders-bike-night/2025-04-19/
LOCATION:Truett’s Grill\, 1455 North Expressway\, Griffin\, GA\, 30223\, United States
ATTACH;FMTTYPE=image/png:https://nsbcgriffin.org/wp-content/uploads/2025/03/Bike-Night-10-x-8-in.png
END:VEVENT
BEGIN:VEVENT
DTSTART;TZID=UTC:20250420T070000
DTEND;TZID=UTC:20250420T210000
DTSTAMP:20260419T145743
CREATED:20250328T224932Z
LAST-MODIFIED:20250328T225312Z
UID:10003783-1745132400-1745182800@nsbcgriffin.org
SUMMARY:SONrise Easter Service & breakfast
DESCRIPTION:Join us at 7 am for our annual SONrise Easter Service with breakfast afterward.
URL:https://nsbcgriffin.org/event/sonrise-easter-service-breakfast/
LOCATION:New Salem Baptist Church\, 57 Bicycle Rd\, Griffin\, GA\, 30223\, United States
ATTACH;FMTTYPE=image/png:https://nsbcgriffin.org/wp-content/uploads/2025/03/Easter-sunrise-Services-INSTAGRAM-3-30-25-1080-x-1080-px.png
END:VEVENT
BEGIN:VEVENT
DTSTART;TZID=UTC:20250420T090000
DTEND;TZID=UTC:20250420T100000
DTSTAMP:20260419T145743
CREATED:20250328T225537Z
LAST-MODIFIED:20250328T225537Z
UID:10003784-1745139600-1745143200@nsbcgriffin.org
SUMMARY:Early Morning Worship
DESCRIPTION:
URL:https://nsbcgriffin.org/event/early-morning-worship/
LOCATION:New Salem Baptist Church\, 57 Bicycle Rd\, Griffin\, GA\, 30223\, United States
END:VEVENT
BEGIN:VEVENT
DTSTART;TZID=UTC:20250420T103000
DTEND;TZID=UTC:20250420T120000
DTSTAMP:20260419T145743
CREATED:20250328T225741Z
LAST-MODIFIED:20250328T225741Z
UID:10003785-1745145000-1745150400@nsbcgriffin.org
SUMMARY:Morning Worship
DESCRIPTION:
URL:https://nsbcgriffin.org/event/morning-worship/
LOCATION:New Salem Baptist Church\, 57 Bicycle Rd\, Griffin\, GA\, 30223\, United States
END:VEVENT
BEGIN:VEVENT
DTSTART;TZID=UTC:20250421T183000
DTEND;TZID=UTC:20250421T193000
DTSTAMP:20260419T145743
CREATED:20241008T221507Z
LAST-MODIFIED:20250507T172654Z
UID:10002710-1745260200-1745263800@nsbcgriffin.org
SUMMARY:Zumba-LADIES ONLY
DESCRIPTION:This is a free exercise class for all skill levels.  Ladies ONLY!  Childcare not provided.
URL:https://nsbcgriffin.org/event/zumba-ladies-only/2025-04-21/
END:VEVENT
BEGIN:VEVENT
DTSTART;TZID=UTC:20250421T193000
DTEND;TZID=UTC:20250421T210000
DTSTAMP:20260419T145743
CREATED:20250210T202921Z
LAST-MODIFIED:20250210T202921Z
UID:10003691-1745263800-1745269200@nsbcgriffin.org
SUMMARY:GriefShare
DESCRIPTION:GriefShare is a 13-week cycle. It is faith-based and reaches out to those who have lost a spouse\, child\, parent\, sibling\, friend or anyone close to you. This ministry is for our church members\, as well as\, our community. It is a friendly\, caring group of people who will walk alongside you through one of life’s most difficult experiences. You don’t have to go through the grieving process alone. You’ll gain access to valuable GriefShare resources to help you recover from your loss and look forward to rebuilding your life.
URL:https://nsbcgriffin.org/event/griefshare-4/2025-04-21/
ATTACH;FMTTYPE=image/png:https://nsbcgriffin.org/wp-content/uploads/2025/02/GriefShare-2-10-25-INSTAGRAM-1080-x-1080-px.png
END:VEVENT
BEGIN:VEVENT
DTSTART;TZID=UTC:20250422T110000
DTEND;TZID=UTC:20250422T130000
DTSTAMP:20260419T145743
CREATED:20241203T192431Z
LAST-MODIFIED:20241231T152028Z
UID:10003394-1745319600-1745326800@nsbcgriffin.org
SUMMARY:Prayer Tent
DESCRIPTION:Praying with and for our community.  Please view evangelizegeorgia.org for the location each week.
URL:https://nsbcgriffin.org/event/prayer-tent-6/2025-04-22/
END:VEVENT
BEGIN:VEVENT
DTSTART;TZID=UTC:20250423T190000
DTEND;TZID=UTC:20250423T200000
DTSTAMP:20260419T145743
CREATED:20240326T153612Z
LAST-MODIFIED:20260327T143303Z
UID:10001854-1745434800-1745438400@nsbcgriffin.org
SUMMARY:Student Ministry
DESCRIPTION:6th-12th grades
URL:https://nsbcgriffin.org/event/student-ministry-2/2025-04-23/
LOCATION:New Salem Baptist Church\, 57 Bicycle Rd\, Griffin\, GA\, 30223\, United States
ATTACH;FMTTYPE=image/jpeg:https://nsbcgriffin.org/wp-content/uploads/2024/03/Youth-Wednesday-5-3-24.jpg
END:VEVENT
BEGIN:VEVENT
DTSTART;TZID=UTC:20250423T190000
DTEND;TZID=UTC:20250423T200000
DTSTAMP:20260419T145743
CREATED:20240328T215148Z
LAST-MODIFIED:20260327T143154Z
UID:10000863-1745434800-1745438400@nsbcgriffin.org
SUMMARY:Bible Study
DESCRIPTION:Studying through the Bible one book at a time.
URL:https://nsbcgriffin.org/event/bible-study/2025-04-23/
LOCATION:New Salem Baptist Church\, 57 Bicycle Rd\, Griffin\, GA\, 30223\, United States
ATTACH;FMTTYPE=image/png:https://nsbcgriffin.org/wp-content/uploads/2024/03/Bible-Study-5-7-25.png
END:VEVENT
BEGIN:VEVENT
DTSTART;TZID=UTC:20250423T190000
DTEND;TZID=UTC:20250423T200000
DTSTAMP:20260419T145743
CREATED:20240430T143849Z
LAST-MODIFIED:20260327T143355Z
UID:10002112-1745434800-1745438400@nsbcgriffin.org
SUMMARY:Kid's Ministry
DESCRIPTION:Children ages 3-5 and Kindergarten through 5th grades.
URL:https://nsbcgriffin.org/event/kids-ministry-2-2/2025-04-23/
LOCATION:New Salem Baptist Church\, 57 Bicycle Rd\, Griffin\, GA\, 30223\, United States
ATTACH;FMTTYPE=image/jpeg:https://nsbcgriffin.org/wp-content/uploads/2024/04/Kids-Ministry-5-5-24.jpg
END:VEVENT
BEGIN:VEVENT
DTSTART;TZID=UTC:20250424T190000
DTEND;TZID=UTC:20250424T200000
DTSTAMP:20260419T145743
CREATED:20240326T200542Z
LAST-MODIFIED:20251208T184524Z
UID:10001385-1745521200-1745524800@nsbcgriffin.org
SUMMARY:Stepping Stones to Recovery through Christ
DESCRIPTION:A 12-step recovery program facilitated by Donnie & Tammy Tallman. The combination of recovery and spirituality offers Christians an effective way to work a traditional twelve-step program and name Jesus Christ as their Higher Power. They meet in Room 107.
URL:https://nsbcgriffin.org/event/stepping-stones-to-recovery-through-christ-3/2025-04-24/
LOCATION:New Salem Baptist Church\, 57 Bicycle Rd\, Griffin\, GA\, 30223\, United States
ATTACH;FMTTYPE=image/png:https://nsbcgriffin.org/wp-content/uploads/2024/03/Stepping-Stones-to-Recover-3-13-25-Facebook-Post.png
END:VEVENT
END:VCALENDAR