BEGIN:VCALENDAR
VERSION:2.0
PRODID:-//New Salem Baptist Church - ECPv6.15.20//NONSGML v1.0//EN
CALSCALE:GREGORIAN
METHOD:PUBLISH
X-WR-CALNAME:New Salem Baptist Church
X-ORIGINAL-URL:https://nsbcgriffin.org
X-WR-CALDESC:Events for New Salem Baptist Church
REFRESH-INTERVAL;VALUE=DURATION:PT1H
X-Robots-Tag:noindex
X-PUBLISHED-TTL:PT1H
BEGIN:VTIMEZONE
TZID:UTC
BEGIN:STANDARD
TZOFFSETFROM:+0000
TZOFFSETTO:+0000
TZNAME:UTC
DTSTART:20250101T000000
END:STANDARD
END:VTIMEZONE
BEGIN:VEVENT
DTSTART;TZID=UTC:20260510T140000
DTEND;TZID=UTC:20260510T160000
DTSTAMP:20260419T173409
CREATED:20260305T181137Z
LAST-MODIFIED:20260305T181137Z
UID:10004429-1778421600-1778428800@nsbcgriffin.org
SUMMARY:Medical Ministry
DESCRIPTION:Consultation on medicines & side effects\nVitals-blood pressure\, sugar diabetes quick check\, etc.\nNo diagnosis will be given.\n\nPlease sign up in the Connection Center if you will be participating. \n 
URL:https://nsbcgriffin.org/event/medical-ministry/2026-05-10/
ATTACH;FMTTYPE=image/png:https://nsbcgriffin.org/wp-content/uploads/2026/03/Medical-Ministry-Logo-3-5-26-1.png
END:VEVENT
BEGIN:VEVENT
DTSTART;TZID=UTC:20260511T183000
DTEND;TZID=UTC:20260511T193000
DTSTAMP:20260419T173409
CREATED:20241008T221507Z
LAST-MODIFIED:20250507T172654Z
UID:10002765-1778524200-1778527800@nsbcgriffin.org
SUMMARY:Zumba-LADIES ONLY
DESCRIPTION:This is a free exercise class for all skill levels.  Ladies ONLY!  Childcare not provided.
URL:https://nsbcgriffin.org/event/zumba-ladies-only/2026-05-11/
END:VEVENT
BEGIN:VEVENT
DTSTART;TZID=UTC:20260512T110000
DTEND;TZID=UTC:20260512T130000
DTSTAMP:20260419T173409
CREATED:20241203T192431Z
LAST-MODIFIED:20241231T152028Z
UID:10003449-1778583600-1778590800@nsbcgriffin.org
SUMMARY:Prayer Tent
DESCRIPTION:Praying with and for our community.  Please view evangelizegeorgia.org for the location each week.
URL:https://nsbcgriffin.org/event/prayer-tent-6/2026-05-12/
END:VEVENT
BEGIN:VEVENT
DTSTART;TZID=UTC:20260512T140000
DTEND;TZID=UTC:20260512T190000
DTSTAMP:20260419T173409
CREATED:20240326T185633Z
LAST-MODIFIED:20260305T181937Z
UID:10004556-1778594400-1778612400@nsbcgriffin.org
SUMMARY:Red Cross Blood Drive
DESCRIPTION:
URL:https://nsbcgriffin.org/event/red-cross-blood-drive/2026-05-12/
LOCATION:New Salem Baptist Church\, 57 Bicycle Rd\, Griffin\, GA\, 30223\, United States
ATTACH;FMTTYPE=image/png:https://nsbcgriffin.org/wp-content/uploads/2024/03/Red-Cross-Blood-Drive-WEBSITE-2024.png
END:VEVENT
BEGIN:VEVENT
DTSTART;TZID=UTC:20260513T180000
DTEND;TZID=UTC:20260513T190000
DTSTAMP:20260419T173409
CREATED:20251002T210827Z
LAST-MODIFIED:20260327T142103Z
UID:10003970-1778695200-1778698800@nsbcgriffin.org
SUMMARY:Wednesday Meal
DESCRIPTION:Join us for dinner!  Bring your whole family!  Stay for Bible study! \nCost:  donations
URL:https://nsbcgriffin.org/event/wednesday-meal/2026-05-13/
END:VEVENT
BEGIN:VEVENT
DTSTART;TZID=UTC:20260513T190000
DTEND;TZID=UTC:20260513T200000
DTSTAMP:20260419T173409
CREATED:20240326T153612Z
LAST-MODIFIED:20260327T143303Z
UID:10001909-1778698800-1778702400@nsbcgriffin.org
SUMMARY:Student Ministry
DESCRIPTION:6th-12th grades
URL:https://nsbcgriffin.org/event/student-ministry-2/2026-05-13/
LOCATION:New Salem Baptist Church\, 57 Bicycle Rd\, Griffin\, GA\, 30223\, United States
ATTACH;FMTTYPE=image/jpeg:https://nsbcgriffin.org/wp-content/uploads/2024/03/Youth-Wednesday-5-3-24.jpg
END:VEVENT
BEGIN:VEVENT
DTSTART;TZID=UTC:20260513T190000
DTEND;TZID=UTC:20260513T200000
DTSTAMP:20260419T173409
CREATED:20240328T215148Z
LAST-MODIFIED:20260327T143154Z
UID:10000918-1778698800-1778702400@nsbcgriffin.org
SUMMARY:Bible Study
DESCRIPTION:Studying through the Bible one book at a time.
URL:https://nsbcgriffin.org/event/bible-study/2026-05-13/
LOCATION:New Salem Baptist Church\, 57 Bicycle Rd\, Griffin\, GA\, 30223\, United States
ATTACH;FMTTYPE=image/png:https://nsbcgriffin.org/wp-content/uploads/2024/03/Bible-Study-5-7-25.png
END:VEVENT
BEGIN:VEVENT
DTSTART;TZID=UTC:20260513T190000
DTEND;TZID=UTC:20260513T200000
DTSTAMP:20260419T173409
CREATED:20240430T143849Z
LAST-MODIFIED:20260327T143355Z
UID:10002167-1778698800-1778702400@nsbcgriffin.org
SUMMARY:Kid's Ministry
DESCRIPTION:Children ages 3-5 and Kindergarten through 5th grades.
URL:https://nsbcgriffin.org/event/kids-ministry-2-2/2026-05-13/
LOCATION:New Salem Baptist Church\, 57 Bicycle Rd\, Griffin\, GA\, 30223\, United States
ATTACH;FMTTYPE=image/jpeg:https://nsbcgriffin.org/wp-content/uploads/2024/04/Kids-Ministry-5-5-24.jpg
END:VEVENT
BEGIN:VEVENT
DTSTART;TZID=UTC:20260514T190000
DTEND;TZID=UTC:20260514T200000
DTSTAMP:20260419T173409
CREATED:20240326T200542Z
LAST-MODIFIED:20251208T184524Z
UID:10001440-1778785200-1778788800@nsbcgriffin.org
SUMMARY:Stepping Stones to Recovery through Christ
DESCRIPTION:A 12-step recovery program facilitated by Donnie & Tammy Tallman. The combination of recovery and spirituality offers Christians an effective way to work a traditional twelve-step program and name Jesus Christ as their Higher Power. They meet in Room 107.
URL:https://nsbcgriffin.org/event/stepping-stones-to-recovery-through-christ-3/2026-05-14/
LOCATION:New Salem Baptist Church\, 57 Bicycle Rd\, Griffin\, GA\, 30223\, United States
ATTACH;FMTTYPE=image/png:https://nsbcgriffin.org/wp-content/uploads/2024/03/Stepping-Stones-to-Recover-3-13-25-Facebook-Post.png
END:VEVENT
BEGIN:VEVENT
DTSTART;TZID=UTC:20260514T190000
DTEND;TZID=UTC:20260514T203000
DTSTAMP:20260419T173409
CREATED:20240326T200416Z
LAST-MODIFIED:20251208T184413Z
UID:10000137-1778785200-1778790600@nsbcgriffin.org
SUMMARY:Active FAITH
DESCRIPTION:This is a walking/exercise group that is open to anyone and all fitness levels. Children are welcome if their parents can supervise their walking/use of stroller. No childcare provided. We will have a time of fellowship and Bible study each week. We will be growing in both spiritual and physical fitness together.
URL:https://nsbcgriffin.org/event/active-faith-2/2026-05-14/
LOCATION:New Salem Baptist Church\, 57 Bicycle Rd\, Griffin\, GA\, 30223\, United States
ATTACH;FMTTYPE=image/jpeg:https://nsbcgriffin.org/wp-content/uploads/2024/01/Active-FAITH-1-8-23.jpg
END:VEVENT
BEGIN:VEVENT
DTSTART;TZID=UTC:20260515T190000
DTEND;TZID=UTC:20260515T200000
DTSTAMP:20260419T173409
CREATED:20240423T163009Z
LAST-MODIFIED:20250210T203115Z
UID:10002476-1778871600-1778875200@nsbcgriffin.org
SUMMARY:Faith Riders
DESCRIPTION:F.A.I.T.H. Riders consist of ordinary people from every walk of life who share a common desire to serve our Lord through motorcycle ministry.\nWe exist to share the saving Gospel of Jesus Christ intentionally and unapologetically to all who have yet to accept Him and to build up the body of Christ through worship\, fellowship\, discipleship and serving.\nWhile most of our members do ride motorcycles\, some choose not to and yet still serve in a great capacity and are an integral part of the ministry.\nWomen are welcomed and encouraged to become a part of F.A.I.T.H. Riders\nFor more information\, visit the F.A.I.T.H. Riders’ FAQ page-https://faithriders.com/frequently-asked-questions/
URL:https://nsbcgriffin.org/event/faith-riders/2026-05-15/
ATTACH;FMTTYPE=image/png:https://nsbcgriffin.org/wp-content/uploads/2024/04/Faith-Riders-logo-2024.png
END:VEVENT
BEGIN:VEVENT
DTSTART;TZID=UTC:20260516T160000
DTEND;TZID=UTC:20260516T170000
DTSTAMP:20260419T173409
CREATED:20240326T192148Z
LAST-MODIFIED:20240328T220831Z
UID:10001180-1778947200-1778950800@nsbcgriffin.org
SUMMARY:Brightmoor Assisted Living Ministry
DESCRIPTION:Since the senior citizens of Brightmoor Assisted Living can not attend regular church services\, we are ministering to them through music and devotions each week at their residence.
URL:https://nsbcgriffin.org/event/brightmoor-assisted-living-ministry-2/2026-05-16/
LOCATION:Brightmoor Assisted Living\, 3223 Newnan Rd\, Griffin\, Georgia\, 30223
END:VEVENT
BEGIN:VEVENT
DTSTART;TZID=UTC:20260517T180000
DTEND;TZID=UTC:20260517T193000
DTSTAMP:20260419T173409
CREATED:20260327T142954Z
LAST-MODIFIED:20260327T144713Z
UID:10004571-1779040800-1779046200@nsbcgriffin.org
SUMMARY:Graduate Sunday
DESCRIPTION:We will be recognizing our 2026 New Salem graduates in the 6 pm service with fellowship afterward. \nThis year’s graduates are: \n\nZack Neal -certified electrical online technician\nJoshua Stevens- Fire Academy and EMT
URL:https://nsbcgriffin.org/event/graduate-sunday-2/
LOCATION:New Salem Baptist Church\, 57 Bicycle Rd\, Griffin\, GA\, 30223\, United States
ATTACH;FMTTYPE=image/png:https://nsbcgriffin.org/wp-content/uploads/2026/03/Graduate-Sunday-2026-WEBSITE-1080-x-1080-px.png
END:VEVENT
BEGIN:VEVENT
DTSTART;TZID=UTC:20260518T183000
DTEND;TZID=UTC:20260518T193000
DTSTAMP:20260419T173409
CREATED:20241008T221507Z
LAST-MODIFIED:20250507T172654Z
UID:10002766-1779129000-1779132600@nsbcgriffin.org
SUMMARY:Zumba-LADIES ONLY
DESCRIPTION:This is a free exercise class for all skill levels.  Ladies ONLY!  Childcare not provided.
URL:https://nsbcgriffin.org/event/zumba-ladies-only/2026-05-18/
END:VEVENT
BEGIN:VEVENT
DTSTART;TZID=UTC:20260519T110000
DTEND;TZID=UTC:20260519T130000
DTSTAMP:20260419T173409
CREATED:20241203T192431Z
LAST-MODIFIED:20241231T152028Z
UID:10003450-1779188400-1779195600@nsbcgriffin.org
SUMMARY:Prayer Tent
DESCRIPTION:Praying with and for our community.  Please view evangelizegeorgia.org for the location each week.
URL:https://nsbcgriffin.org/event/prayer-tent-6/2026-05-19/
END:VEVENT
BEGIN:VEVENT
DTSTART;TZID=UTC:20260520T180000
DTEND;TZID=UTC:20260520T190000
DTSTAMP:20260419T173409
CREATED:20251002T210827Z
LAST-MODIFIED:20260327T142103Z
UID:10003971-1779300000-1779303600@nsbcgriffin.org
SUMMARY:Wednesday Meal
DESCRIPTION:Join us for dinner!  Bring your whole family!  Stay for Bible study! \nCost:  donations
URL:https://nsbcgriffin.org/event/wednesday-meal/2026-05-20/
END:VEVENT
BEGIN:VEVENT
DTSTART;TZID=UTC:20260520T190000
DTEND;TZID=UTC:20260520T200000
DTSTAMP:20260419T173409
CREATED:20240326T153612Z
LAST-MODIFIED:20260327T143303Z
UID:10001910-1779303600-1779307200@nsbcgriffin.org
SUMMARY:Student Ministry
DESCRIPTION:6th-12th grades
URL:https://nsbcgriffin.org/event/student-ministry-2/2026-05-20/
LOCATION:New Salem Baptist Church\, 57 Bicycle Rd\, Griffin\, GA\, 30223\, United States
ATTACH;FMTTYPE=image/jpeg:https://nsbcgriffin.org/wp-content/uploads/2024/03/Youth-Wednesday-5-3-24.jpg
END:VEVENT
BEGIN:VEVENT
DTSTART;TZID=UTC:20260520T190000
DTEND;TZID=UTC:20260520T200000
DTSTAMP:20260419T173409
CREATED:20240328T215148Z
LAST-MODIFIED:20260327T143154Z
UID:10000919-1779303600-1779307200@nsbcgriffin.org
SUMMARY:Bible Study
DESCRIPTION:Studying through the Bible one book at a time.
URL:https://nsbcgriffin.org/event/bible-study/2026-05-20/
LOCATION:New Salem Baptist Church\, 57 Bicycle Rd\, Griffin\, GA\, 30223\, United States
ATTACH;FMTTYPE=image/png:https://nsbcgriffin.org/wp-content/uploads/2024/03/Bible-Study-5-7-25.png
END:VEVENT
BEGIN:VEVENT
DTSTART;TZID=UTC:20260520T190000
DTEND;TZID=UTC:20260520T200000
DTSTAMP:20260419T173409
CREATED:20240430T143849Z
LAST-MODIFIED:20260327T143355Z
UID:10002168-1779303600-1779307200@nsbcgriffin.org
SUMMARY:Kid's Ministry
DESCRIPTION:Children ages 3-5 and Kindergarten through 5th grades.
URL:https://nsbcgriffin.org/event/kids-ministry-2-2/2026-05-20/
LOCATION:New Salem Baptist Church\, 57 Bicycle Rd\, Griffin\, GA\, 30223\, United States
ATTACH;FMTTYPE=image/jpeg:https://nsbcgriffin.org/wp-content/uploads/2024/04/Kids-Ministry-5-5-24.jpg
END:VEVENT
BEGIN:VEVENT
DTSTART;TZID=UTC:20260521T110000
DTEND;TZID=UTC:20260521T120000
DTSTAMP:20260419T173409
CREATED:20240716T203507Z
LAST-MODIFIED:20251208T171407Z
UID:10001615-1779361200-1779364800@nsbcgriffin.org
SUMMARY:Sunshine Ladies
DESCRIPTION:We are a group of ladies that meet for a covered dish meal\, Bible study and fellowship at the New Salem Event Center. We bring items (examples: lotion\, candy\, tissues\, candles\, pens\, word searches\, devotionals\, Chapstick\, etc.) for the Sunshine Baskets that are distributed to those needing encouragement. Ladies of all ages are invited to join us!
URL:https://nsbcgriffin.org/event/sunshine-ladies-2/2026-05-21/
LOCATION:New Salem Event Center\, 776 Vaughn School Rd\, Griffin\, GA\, 30223\, United States
ATTACH;FMTTYPE=image/jpeg:https://nsbcgriffin.org/wp-content/uploads/2024/03/419567020_711704564387205_8418512421664569362_n.jpg
END:VEVENT
BEGIN:VEVENT
DTSTART;TZID=UTC:20260521T190000
DTEND;TZID=UTC:20260521T200000
DTSTAMP:20260419T173409
CREATED:20240326T200542Z
LAST-MODIFIED:20251208T184524Z
UID:10001441-1779390000-1779393600@nsbcgriffin.org
SUMMARY:Stepping Stones to Recovery through Christ
DESCRIPTION:A 12-step recovery program facilitated by Donnie & Tammy Tallman. The combination of recovery and spirituality offers Christians an effective way to work a traditional twelve-step program and name Jesus Christ as their Higher Power. They meet in Room 107.
URL:https://nsbcgriffin.org/event/stepping-stones-to-recovery-through-christ-3/2026-05-21/
LOCATION:New Salem Baptist Church\, 57 Bicycle Rd\, Griffin\, GA\, 30223\, United States
ATTACH;FMTTYPE=image/png:https://nsbcgriffin.org/wp-content/uploads/2024/03/Stepping-Stones-to-Recover-3-13-25-Facebook-Post.png
END:VEVENT
BEGIN:VEVENT
DTSTART;TZID=UTC:20260521T190000
DTEND;TZID=UTC:20260521T203000
DTSTAMP:20260419T173409
CREATED:20240326T200416Z
LAST-MODIFIED:20251208T184413Z
UID:10000138-1779390000-1779395400@nsbcgriffin.org
SUMMARY:Active FAITH
DESCRIPTION:This is a walking/exercise group that is open to anyone and all fitness levels. Children are welcome if their parents can supervise their walking/use of stroller. No childcare provided. We will have a time of fellowship and Bible study each week. We will be growing in both spiritual and physical fitness together.
URL:https://nsbcgriffin.org/event/active-faith-2/2026-05-21/
LOCATION:New Salem Baptist Church\, 57 Bicycle Rd\, Griffin\, GA\, 30223\, United States
ATTACH;FMTTYPE=image/jpeg:https://nsbcgriffin.org/wp-content/uploads/2024/01/Active-FAITH-1-8-23.jpg
END:VEVENT
BEGIN:VEVENT
DTSTART;TZID=UTC:20260523T160000
DTEND;TZID=UTC:20260523T170000
DTSTAMP:20260419T173409
CREATED:20240326T192148Z
LAST-MODIFIED:20240328T220831Z
UID:10001181-1779552000-1779555600@nsbcgriffin.org
SUMMARY:Brightmoor Assisted Living Ministry
DESCRIPTION:Since the senior citizens of Brightmoor Assisted Living can not attend regular church services\, we are ministering to them through music and devotions each week at their residence.
URL:https://nsbcgriffin.org/event/brightmoor-assisted-living-ministry-2/2026-05-23/
LOCATION:Brightmoor Assisted Living\, 3223 Newnan Rd\, Griffin\, Georgia\, 30223
END:VEVENT
BEGIN:VEVENT
DTSTART;TZID=UTC:20260524T140000
DTEND;TZID=UTC:20260524T160000
DTSTAMP:20260419T173409
CREATED:20260305T181137Z
LAST-MODIFIED:20260305T181137Z
UID:10004430-1779631200-1779638400@nsbcgriffin.org
SUMMARY:Medical Ministry
DESCRIPTION:Consultation on medicines & side effects\nVitals-blood pressure\, sugar diabetes quick check\, etc.\nNo diagnosis will be given.\n\nPlease sign up in the Connection Center if you will be participating. \n 
URL:https://nsbcgriffin.org/event/medical-ministry/2026-05-24/
ATTACH;FMTTYPE=image/png:https://nsbcgriffin.org/wp-content/uploads/2026/03/Medical-Ministry-Logo-3-5-26-1.png
END:VEVENT
BEGIN:VEVENT
DTSTART;TZID=UTC:20260525T183000
DTEND;TZID=UTC:20260525T193000
DTSTAMP:20260419T173409
CREATED:20241008T221507Z
LAST-MODIFIED:20250507T172654Z
UID:10002767-1779733800-1779737400@nsbcgriffin.org
SUMMARY:Zumba-LADIES ONLY
DESCRIPTION:This is a free exercise class for all skill levels.  Ladies ONLY!  Childcare not provided.
URL:https://nsbcgriffin.org/event/zumba-ladies-only/2026-05-25/
END:VEVENT
BEGIN:VEVENT
DTSTART;TZID=UTC:20260526T110000
DTEND;TZID=UTC:20260526T130000
DTSTAMP:20260419T173409
CREATED:20241203T192431Z
LAST-MODIFIED:20241231T152028Z
UID:10003451-1779793200-1779800400@nsbcgriffin.org
SUMMARY:Prayer Tent
DESCRIPTION:Praying with and for our community.  Please view evangelizegeorgia.org for the location each week.
URL:https://nsbcgriffin.org/event/prayer-tent-6/2026-05-26/
END:VEVENT
BEGIN:VEVENT
DTSTART;TZID=UTC:20260527T180000
DTEND;TZID=UTC:20260527T190000
DTSTAMP:20260419T173409
CREATED:20251002T210827Z
LAST-MODIFIED:20260327T142103Z
UID:10003972-1779904800-1779908400@nsbcgriffin.org
SUMMARY:Wednesday Meal
DESCRIPTION:Join us for dinner!  Bring your whole family!  Stay for Bible study! \nCost:  donations
URL:https://nsbcgriffin.org/event/wednesday-meal/2026-05-27/
END:VEVENT
BEGIN:VEVENT
DTSTART;TZID=UTC:20260527T190000
DTEND;TZID=UTC:20260527T200000
DTSTAMP:20260419T173409
CREATED:20240326T153612Z
LAST-MODIFIED:20260327T143303Z
UID:10001911-1779908400-1779912000@nsbcgriffin.org
SUMMARY:Student Ministry
DESCRIPTION:6th-12th grades
URL:https://nsbcgriffin.org/event/student-ministry-2/2026-05-27/
LOCATION:New Salem Baptist Church\, 57 Bicycle Rd\, Griffin\, GA\, 30223\, United States
ATTACH;FMTTYPE=image/jpeg:https://nsbcgriffin.org/wp-content/uploads/2024/03/Youth-Wednesday-5-3-24.jpg
END:VEVENT
BEGIN:VEVENT
DTSTART;TZID=UTC:20260527T190000
DTEND;TZID=UTC:20260527T200000
DTSTAMP:20260419T173409
CREATED:20240328T215148Z
LAST-MODIFIED:20260327T143154Z
UID:10000920-1779908400-1779912000@nsbcgriffin.org
SUMMARY:Bible Study
DESCRIPTION:Studying through the Bible one book at a time.
URL:https://nsbcgriffin.org/event/bible-study/2026-05-27/
LOCATION:New Salem Baptist Church\, 57 Bicycle Rd\, Griffin\, GA\, 30223\, United States
ATTACH;FMTTYPE=image/png:https://nsbcgriffin.org/wp-content/uploads/2024/03/Bible-Study-5-7-25.png
END:VEVENT
BEGIN:VEVENT
DTSTART;TZID=UTC:20260527T190000
DTEND;TZID=UTC:20260527T200000
DTSTAMP:20260419T173409
CREATED:20240430T143849Z
LAST-MODIFIED:20260327T143355Z
UID:10002169-1779908400-1779912000@nsbcgriffin.org
SUMMARY:Kid's Ministry
DESCRIPTION:Children ages 3-5 and Kindergarten through 5th grades.
URL:https://nsbcgriffin.org/event/kids-ministry-2-2/2026-05-27/
LOCATION:New Salem Baptist Church\, 57 Bicycle Rd\, Griffin\, GA\, 30223\, United States
ATTACH;FMTTYPE=image/jpeg:https://nsbcgriffin.org/wp-content/uploads/2024/04/Kids-Ministry-5-5-24.jpg
END:VEVENT
END:VCALENDAR