BEGIN:VCALENDAR
VERSION:2.0
PRODID:-//New Salem Baptist Church - ECPv6.15.20//NONSGML v1.0//EN
CALSCALE:GREGORIAN
METHOD:PUBLISH
X-ORIGINAL-URL:https://nsbcgriffin.org
X-WR-CALDESC:Events for New Salem Baptist Church
REFRESH-INTERVAL;VALUE=DURATION:PT1H
X-Robots-Tag:noindex
X-PUBLISHED-TTL:PT1H
BEGIN:VTIMEZONE
TZID:UTC
BEGIN:STANDARD
TZOFFSETFROM:+0000
TZOFFSETTO:+0000
TZNAME:UTC
DTSTART:20250101T000000
END:STANDARD
END:VTIMEZONE
BEGIN:VEVENT
DTSTART;TZID=UTC:20260801T093000
DTEND;TZID=UTC:20260801T123000
DTSTAMP:20260419T232556
CREATED:20240326T191550Z
LAST-MODIFIED:20241105T212141Z
UID:10001677-1785576600-1785587400@nsbcgriffin.org
SUMMARY:Laundromat Ministry
DESCRIPTION:FREE laundry up to 3 loads–we will not wash:  comforters/bedspreads\, curtains\, pillows\, animal beds\, or rugs\nIt is the first Saturday of each month\nWe provide:  detergents\, bleach\, dryer sheets\, Bibles\, prayers\, and LOVE\nWays to contribute:  donation of detergent\, bleach\, dryer sheets\, and/or money to the Laundromat jar in the Connection Center
URL:https://nsbcgriffin.org/event/laundromat-ministry/2026-08-01/
LOCATION:Maytag Homestyle Laundry\, 704 W Solomon St\, Griffin\, GA\, 30223\, United States
ATTACH;FMTTYPE=image/png:https://nsbcgriffin.org/wp-content/uploads/2024/03/Laundromat-Ministry-INSTAGRAM-10-25-23-7.png
END:VEVENT
BEGIN:VEVENT
DTSTART;TZID=UTC:20260801T160000
DTEND;TZID=UTC:20260801T170000
DTSTAMP:20260419T232556
CREATED:20240326T192148Z
LAST-MODIFIED:20240328T220831Z
UID:10001191-1785600000-1785603600@nsbcgriffin.org
SUMMARY:Brightmoor Assisted Living Ministry
DESCRIPTION:Since the senior citizens of Brightmoor Assisted Living can not attend regular church services\, we are ministering to them through music and devotions each week at their residence.
URL:https://nsbcgriffin.org/event/brightmoor-assisted-living-ministry-2/2026-08-01/
LOCATION:Brightmoor Assisted Living\, 3223 Newnan Rd\, Griffin\, Georgia\, 30223
END:VEVENT
BEGIN:VEVENT
DTSTART;TZID=UTC:20260802T140000
DTEND;TZID=UTC:20260802T160000
DTSTAMP:20260419T232556
CREATED:20260305T181137Z
LAST-MODIFIED:20260305T181137Z
UID:10004435-1785679200-1785686400@nsbcgriffin.org
SUMMARY:Medical Ministry
DESCRIPTION:Consultation on medicines & side effects\nVitals-blood pressure\, sugar diabetes quick check\, etc.\nNo diagnosis will be given.\n\nPlease sign up in the Connection Center if you will be participating. \n 
URL:https://nsbcgriffin.org/event/medical-ministry/2026-08-02/
ATTACH;FMTTYPE=image/png:https://nsbcgriffin.org/wp-content/uploads/2026/03/Medical-Ministry-Logo-3-5-26-1.png
END:VEVENT
BEGIN:VEVENT
DTSTART;TZID=UTC:20260803T183000
DTEND;TZID=UTC:20260803T193000
DTSTAMP:20260419T232556
CREATED:20241008T221507Z
LAST-MODIFIED:20250507T172654Z
UID:10002777-1785781800-1785785400@nsbcgriffin.org
SUMMARY:Zumba-LADIES ONLY
DESCRIPTION:This is a free exercise class for all skill levels.  Ladies ONLY!  Childcare not provided.
URL:https://nsbcgriffin.org/event/zumba-ladies-only/2026-08-03/
END:VEVENT
BEGIN:VEVENT
DTSTART;TZID=UTC:20260804T110000
DTEND;TZID=UTC:20260804T130000
DTSTAMP:20260419T232556
CREATED:20241203T192431Z
LAST-MODIFIED:20241231T152028Z
UID:10003461-1785841200-1785848400@nsbcgriffin.org
SUMMARY:Prayer Tent
DESCRIPTION:Praying with and for our community.  Please view evangelizegeorgia.org for the location each week.
URL:https://nsbcgriffin.org/event/prayer-tent-6/2026-08-04/
END:VEVENT
BEGIN:VEVENT
DTSTART;TZID=UTC:20260805T180000
DTEND;TZID=UTC:20260805T190000
DTSTAMP:20260419T232556
CREATED:20251002T210827Z
LAST-MODIFIED:20260327T142103Z
UID:10003982-1785952800-1785956400@nsbcgriffin.org
SUMMARY:Wednesday Meal
DESCRIPTION:Join us for dinner!  Bring your whole family!  Stay for Bible study! \nCost:  donations
URL:https://nsbcgriffin.org/event/wednesday-meal/2026-08-05/
END:VEVENT
BEGIN:VEVENT
DTSTART;TZID=UTC:20260805T190000
DTEND;TZID=UTC:20260805T200000
DTSTAMP:20260419T232556
CREATED:20240326T153612Z
LAST-MODIFIED:20260327T143303Z
UID:10001921-1785956400-1785960000@nsbcgriffin.org
SUMMARY:Student Ministry
DESCRIPTION:6th-12th grades
URL:https://nsbcgriffin.org/event/student-ministry-2/2026-08-05/
LOCATION:New Salem Baptist Church\, 57 Bicycle Rd\, Griffin\, GA\, 30223\, United States
ATTACH;FMTTYPE=image/jpeg:https://nsbcgriffin.org/wp-content/uploads/2024/03/Youth-Wednesday-5-3-24.jpg
END:VEVENT
BEGIN:VEVENT
DTSTART;TZID=UTC:20260805T190000
DTEND;TZID=UTC:20260805T200000
DTSTAMP:20260419T232556
CREATED:20240328T215148Z
LAST-MODIFIED:20260327T143154Z
UID:10000930-1785956400-1785960000@nsbcgriffin.org
SUMMARY:Bible Study
DESCRIPTION:Studying through the Bible one book at a time.
URL:https://nsbcgriffin.org/event/bible-study/2026-08-05/
LOCATION:New Salem Baptist Church\, 57 Bicycle Rd\, Griffin\, GA\, 30223\, United States
ATTACH;FMTTYPE=image/png:https://nsbcgriffin.org/wp-content/uploads/2024/03/Bible-Study-5-7-25.png
END:VEVENT
BEGIN:VEVENT
DTSTART;TZID=UTC:20260805T190000
DTEND;TZID=UTC:20260805T200000
DTSTAMP:20260419T232556
CREATED:20240430T143849Z
LAST-MODIFIED:20260327T143355Z
UID:10002179-1785956400-1785960000@nsbcgriffin.org
SUMMARY:Kid's Ministry
DESCRIPTION:Children ages 3-5 and Kindergarten through 5th grades.
URL:https://nsbcgriffin.org/event/kids-ministry-2-2/2026-08-05/
LOCATION:New Salem Baptist Church\, 57 Bicycle Rd\, Griffin\, GA\, 30223\, United States
ATTACH;FMTTYPE=image/jpeg:https://nsbcgriffin.org/wp-content/uploads/2024/04/Kids-Ministry-5-5-24.jpg
END:VEVENT
BEGIN:VEVENT
DTSTART;TZID=UTC:20260806T190000
DTEND;TZID=UTC:20260806T200000
DTSTAMP:20260419T232556
CREATED:20240326T200542Z
LAST-MODIFIED:20251208T184524Z
UID:10001452-1786042800-1786046400@nsbcgriffin.org
SUMMARY:Stepping Stones to Recovery through Christ
DESCRIPTION:A 12-step recovery program facilitated by Donnie & Tammy Tallman. The combination of recovery and spirituality offers Christians an effective way to work a traditional twelve-step program and name Jesus Christ as their Higher Power. They meet in Room 107.
URL:https://nsbcgriffin.org/event/stepping-stones-to-recovery-through-christ-3/2026-08-06/
LOCATION:New Salem Baptist Church\, 57 Bicycle Rd\, Griffin\, GA\, 30223\, United States
ATTACH;FMTTYPE=image/png:https://nsbcgriffin.org/wp-content/uploads/2024/03/Stepping-Stones-to-Recover-3-13-25-Facebook-Post.png
END:VEVENT
BEGIN:VEVENT
DTSTART;TZID=UTC:20260806T190000
DTEND;TZID=UTC:20260806T203000
DTSTAMP:20260419T232556
CREATED:20240326T200416Z
LAST-MODIFIED:20251208T184413Z
UID:10000149-1786042800-1786048200@nsbcgriffin.org
SUMMARY:Active FAITH
DESCRIPTION:This is a walking/exercise group that is open to anyone and all fitness levels. Children are welcome if their parents can supervise their walking/use of stroller. No childcare provided. We will have a time of fellowship and Bible study each week. We will be growing in both spiritual and physical fitness together.
URL:https://nsbcgriffin.org/event/active-faith-2/2026-08-06/
LOCATION:New Salem Baptist Church\, 57 Bicycle Rd\, Griffin\, GA\, 30223\, United States
ATTACH;FMTTYPE=image/jpeg:https://nsbcgriffin.org/wp-content/uploads/2024/01/Active-FAITH-1-8-23.jpg
END:VEVENT
BEGIN:VEVENT
DTSTART;TZID=UTC:20260808T160000
DTEND;TZID=UTC:20260808T170000
DTSTAMP:20260419T232556
CREATED:20240326T192148Z
LAST-MODIFIED:20240328T220831Z
UID:10001192-1786204800-1786208400@nsbcgriffin.org
SUMMARY:Brightmoor Assisted Living Ministry
DESCRIPTION:Since the senior citizens of Brightmoor Assisted Living can not attend regular church services\, we are ministering to them through music and devotions each week at their residence.
URL:https://nsbcgriffin.org/event/brightmoor-assisted-living-ministry-2/2026-08-08/
LOCATION:Brightmoor Assisted Living\, 3223 Newnan Rd\, Griffin\, Georgia\, 30223
END:VEVENT
BEGIN:VEVENT
DTSTART;TZID=UTC:20260810T183000
DTEND;TZID=UTC:20260810T193000
DTSTAMP:20260419T232556
CREATED:20241008T221507Z
LAST-MODIFIED:20250507T172654Z
UID:10002778-1786386600-1786390200@nsbcgriffin.org
SUMMARY:Zumba-LADIES ONLY
DESCRIPTION:This is a free exercise class for all skill levels.  Ladies ONLY!  Childcare not provided.
URL:https://nsbcgriffin.org/event/zumba-ladies-only/2026-08-10/
END:VEVENT
BEGIN:VEVENT
DTSTART;TZID=UTC:20260811T110000
DTEND;TZID=UTC:20260811T130000
DTSTAMP:20260419T232556
CREATED:20241203T192431Z
LAST-MODIFIED:20241231T152028Z
UID:10003462-1786446000-1786453200@nsbcgriffin.org
SUMMARY:Prayer Tent
DESCRIPTION:Praying with and for our community.  Please view evangelizegeorgia.org for the location each week.
URL:https://nsbcgriffin.org/event/prayer-tent-6/2026-08-11/
END:VEVENT
BEGIN:VEVENT
DTSTART;TZID=UTC:20260812T180000
DTEND;TZID=UTC:20260812T190000
DTSTAMP:20260419T232556
CREATED:20251002T210827Z
LAST-MODIFIED:20260327T142103Z
UID:10003983-1786557600-1786561200@nsbcgriffin.org
SUMMARY:Wednesday Meal
DESCRIPTION:Join us for dinner!  Bring your whole family!  Stay for Bible study! \nCost:  donations
URL:https://nsbcgriffin.org/event/wednesday-meal/2026-08-12/
END:VEVENT
BEGIN:VEVENT
DTSTART;TZID=UTC:20260812T190000
DTEND;TZID=UTC:20260812T200000
DTSTAMP:20260419T232557
CREATED:20240326T153612Z
LAST-MODIFIED:20260327T143303Z
UID:10001922-1786561200-1786564800@nsbcgriffin.org
SUMMARY:Student Ministry
DESCRIPTION:6th-12th grades
URL:https://nsbcgriffin.org/event/student-ministry-2/2026-08-12/
LOCATION:New Salem Baptist Church\, 57 Bicycle Rd\, Griffin\, GA\, 30223\, United States
ATTACH;FMTTYPE=image/jpeg:https://nsbcgriffin.org/wp-content/uploads/2024/03/Youth-Wednesday-5-3-24.jpg
END:VEVENT
BEGIN:VEVENT
DTSTART;TZID=UTC:20260812T190000
DTEND;TZID=UTC:20260812T200000
DTSTAMP:20260419T232557
CREATED:20240328T215148Z
LAST-MODIFIED:20260327T143154Z
UID:10000931-1786561200-1786564800@nsbcgriffin.org
SUMMARY:Bible Study
DESCRIPTION:Studying through the Bible one book at a time.
URL:https://nsbcgriffin.org/event/bible-study/2026-08-12/
LOCATION:New Salem Baptist Church\, 57 Bicycle Rd\, Griffin\, GA\, 30223\, United States
ATTACH;FMTTYPE=image/png:https://nsbcgriffin.org/wp-content/uploads/2024/03/Bible-Study-5-7-25.png
END:VEVENT
BEGIN:VEVENT
DTSTART;TZID=UTC:20260812T190000
DTEND;TZID=UTC:20260812T200000
DTSTAMP:20260419T232557
CREATED:20240430T143849Z
LAST-MODIFIED:20260327T143355Z
UID:10002180-1786561200-1786564800@nsbcgriffin.org
SUMMARY:Kid's Ministry
DESCRIPTION:Children ages 3-5 and Kindergarten through 5th grades.
URL:https://nsbcgriffin.org/event/kids-ministry-2-2/2026-08-12/
LOCATION:New Salem Baptist Church\, 57 Bicycle Rd\, Griffin\, GA\, 30223\, United States
ATTACH;FMTTYPE=image/jpeg:https://nsbcgriffin.org/wp-content/uploads/2024/04/Kids-Ministry-5-5-24.jpg
END:VEVENT
BEGIN:VEVENT
DTSTART;TZID=UTC:20260813T190000
DTEND;TZID=UTC:20260813T200000
DTSTAMP:20260419T232557
CREATED:20240326T200542Z
LAST-MODIFIED:20251208T184524Z
UID:10001453-1786647600-1786651200@nsbcgriffin.org
SUMMARY:Stepping Stones to Recovery through Christ
DESCRIPTION:A 12-step recovery program facilitated by Donnie & Tammy Tallman. The combination of recovery and spirituality offers Christians an effective way to work a traditional twelve-step program and name Jesus Christ as their Higher Power. They meet in Room 107.
URL:https://nsbcgriffin.org/event/stepping-stones-to-recovery-through-christ-3/2026-08-13/
LOCATION:New Salem Baptist Church\, 57 Bicycle Rd\, Griffin\, GA\, 30223\, United States
ATTACH;FMTTYPE=image/png:https://nsbcgriffin.org/wp-content/uploads/2024/03/Stepping-Stones-to-Recover-3-13-25-Facebook-Post.png
END:VEVENT
BEGIN:VEVENT
DTSTART;TZID=UTC:20260813T190000
DTEND;TZID=UTC:20260813T203000
DTSTAMP:20260419T232557
CREATED:20240326T200416Z
LAST-MODIFIED:20251208T184413Z
UID:10000150-1786647600-1786653000@nsbcgriffin.org
SUMMARY:Active FAITH
DESCRIPTION:This is a walking/exercise group that is open to anyone and all fitness levels. Children are welcome if their parents can supervise their walking/use of stroller. No childcare provided. We will have a time of fellowship and Bible study each week. We will be growing in both spiritual and physical fitness together.
URL:https://nsbcgriffin.org/event/active-faith-2/2026-08-13/
LOCATION:New Salem Baptist Church\, 57 Bicycle Rd\, Griffin\, GA\, 30223\, United States
ATTACH;FMTTYPE=image/jpeg:https://nsbcgriffin.org/wp-content/uploads/2024/01/Active-FAITH-1-8-23.jpg
END:VEVENT
BEGIN:VEVENT
DTSTART;TZID=UTC:20260815T160000
DTEND;TZID=UTC:20260815T170000
DTSTAMP:20260419T232557
CREATED:20240326T192148Z
LAST-MODIFIED:20240328T220831Z
UID:10001193-1786809600-1786813200@nsbcgriffin.org
SUMMARY:Brightmoor Assisted Living Ministry
DESCRIPTION:Since the senior citizens of Brightmoor Assisted Living can not attend regular church services\, we are ministering to them through music and devotions each week at their residence.
URL:https://nsbcgriffin.org/event/brightmoor-assisted-living-ministry-2/2026-08-15/
LOCATION:Brightmoor Assisted Living\, 3223 Newnan Rd\, Griffin\, Georgia\, 30223
END:VEVENT
BEGIN:VEVENT
DTSTART;TZID=UTC:20260816T140000
DTEND;TZID=UTC:20260816T160000
DTSTAMP:20260419T232557
CREATED:20260305T181137Z
LAST-MODIFIED:20260305T181137Z
UID:10004436-1786888800-1786896000@nsbcgriffin.org
SUMMARY:Medical Ministry
DESCRIPTION:Consultation on medicines & side effects\nVitals-blood pressure\, sugar diabetes quick check\, etc.\nNo diagnosis will be given.\n\nPlease sign up in the Connection Center if you will be participating. \n 
URL:https://nsbcgriffin.org/event/medical-ministry/2026-08-16/
ATTACH;FMTTYPE=image/png:https://nsbcgriffin.org/wp-content/uploads/2026/03/Medical-Ministry-Logo-3-5-26-1.png
END:VEVENT
BEGIN:VEVENT
DTSTART;TZID=UTC:20260817T183000
DTEND;TZID=UTC:20260817T193000
DTSTAMP:20260419T232557
CREATED:20241008T221507Z
LAST-MODIFIED:20250507T172654Z
UID:10002779-1786991400-1786995000@nsbcgriffin.org
SUMMARY:Zumba-LADIES ONLY
DESCRIPTION:This is a free exercise class for all skill levels.  Ladies ONLY!  Childcare not provided.
URL:https://nsbcgriffin.org/event/zumba-ladies-only/2026-08-17/
END:VEVENT
BEGIN:VEVENT
DTSTART;TZID=UTC:20260818T110000
DTEND;TZID=UTC:20260818T130000
DTSTAMP:20260419T232557
CREATED:20241203T192431Z
LAST-MODIFIED:20241231T152028Z
UID:10003463-1787050800-1787058000@nsbcgriffin.org
SUMMARY:Prayer Tent
DESCRIPTION:Praying with and for our community.  Please view evangelizegeorgia.org for the location each week.
URL:https://nsbcgriffin.org/event/prayer-tent-6/2026-08-18/
END:VEVENT
BEGIN:VEVENT
DTSTART;TZID=UTC:20260819T180000
DTEND;TZID=UTC:20260819T190000
DTSTAMP:20260419T232557
CREATED:20251002T210827Z
LAST-MODIFIED:20260327T142103Z
UID:10003984-1787162400-1787166000@nsbcgriffin.org
SUMMARY:Wednesday Meal
DESCRIPTION:Join us for dinner!  Bring your whole family!  Stay for Bible study! \nCost:  donations
URL:https://nsbcgriffin.org/event/wednesday-meal/2026-08-19/
END:VEVENT
BEGIN:VEVENT
DTSTART;TZID=UTC:20260819T190000
DTEND;TZID=UTC:20260819T200000
DTSTAMP:20260419T232557
CREATED:20240326T153612Z
LAST-MODIFIED:20260327T143303Z
UID:10001923-1787166000-1787169600@nsbcgriffin.org
SUMMARY:Student Ministry
DESCRIPTION:6th-12th grades
URL:https://nsbcgriffin.org/event/student-ministry-2/2026-08-19/
LOCATION:New Salem Baptist Church\, 57 Bicycle Rd\, Griffin\, GA\, 30223\, United States
ATTACH;FMTTYPE=image/jpeg:https://nsbcgriffin.org/wp-content/uploads/2024/03/Youth-Wednesday-5-3-24.jpg
END:VEVENT
BEGIN:VEVENT
DTSTART;TZID=UTC:20260819T190000
DTEND;TZID=UTC:20260819T200000
DTSTAMP:20260419T232557
CREATED:20240328T215148Z
LAST-MODIFIED:20260327T143154Z
UID:10000932-1787166000-1787169600@nsbcgriffin.org
SUMMARY:Bible Study
DESCRIPTION:Studying through the Bible one book at a time.
URL:https://nsbcgriffin.org/event/bible-study/2026-08-19/
LOCATION:New Salem Baptist Church\, 57 Bicycle Rd\, Griffin\, GA\, 30223\, United States
ATTACH;FMTTYPE=image/png:https://nsbcgriffin.org/wp-content/uploads/2024/03/Bible-Study-5-7-25.png
END:VEVENT
BEGIN:VEVENT
DTSTART;TZID=UTC:20260819T190000
DTEND;TZID=UTC:20260819T200000
DTSTAMP:20260419T232557
CREATED:20240430T143849Z
LAST-MODIFIED:20260327T143355Z
UID:10002181-1787166000-1787169600@nsbcgriffin.org
SUMMARY:Kid's Ministry
DESCRIPTION:Children ages 3-5 and Kindergarten through 5th grades.
URL:https://nsbcgriffin.org/event/kids-ministry-2-2/2026-08-19/
LOCATION:New Salem Baptist Church\, 57 Bicycle Rd\, Griffin\, GA\, 30223\, United States
ATTACH;FMTTYPE=image/jpeg:https://nsbcgriffin.org/wp-content/uploads/2024/04/Kids-Ministry-5-5-24.jpg
END:VEVENT
BEGIN:VEVENT
DTSTART;TZID=UTC:20260820T110000
DTEND;TZID=UTC:20260820T120000
DTSTAMP:20260419T232557
CREATED:20240716T203507Z
LAST-MODIFIED:20251208T171407Z
UID:10001618-1787223600-1787227200@nsbcgriffin.org
SUMMARY:Sunshine Ladies
DESCRIPTION:We are a group of ladies that meet for a covered dish meal\, Bible study and fellowship at the New Salem Event Center. We bring items (examples: lotion\, candy\, tissues\, candles\, pens\, word searches\, devotionals\, Chapstick\, etc.) for the Sunshine Baskets that are distributed to those needing encouragement. Ladies of all ages are invited to join us!
URL:https://nsbcgriffin.org/event/sunshine-ladies-2/2026-08-20/
LOCATION:New Salem Event Center\, 776 Vaughn School Rd\, Griffin\, GA\, 30223\, United States
ATTACH;FMTTYPE=image/jpeg:https://nsbcgriffin.org/wp-content/uploads/2024/03/419567020_711704564387205_8418512421664569362_n.jpg
END:VEVENT
BEGIN:VEVENT
DTSTART;TZID=UTC:20260820T190000
DTEND;TZID=UTC:20260820T200000
DTSTAMP:20260419T232557
CREATED:20240326T200542Z
LAST-MODIFIED:20251208T184524Z
UID:10001454-1787252400-1787256000@nsbcgriffin.org
SUMMARY:Stepping Stones to Recovery through Christ
DESCRIPTION:A 12-step recovery program facilitated by Donnie & Tammy Tallman. The combination of recovery and spirituality offers Christians an effective way to work a traditional twelve-step program and name Jesus Christ as their Higher Power. They meet in Room 107.
URL:https://nsbcgriffin.org/event/stepping-stones-to-recovery-through-christ-3/2026-08-20/
LOCATION:New Salem Baptist Church\, 57 Bicycle Rd\, Griffin\, GA\, 30223\, United States
ATTACH;FMTTYPE=image/png:https://nsbcgriffin.org/wp-content/uploads/2024/03/Stepping-Stones-to-Recover-3-13-25-Facebook-Post.png
END:VEVENT
END:VCALENDAR