BEGIN:VCALENDAR
VERSION:2.0
PRODID:-//New Salem Baptist Church - ECPv6.15.20//NONSGML v1.0//EN
CALSCALE:GREGORIAN
METHOD:PUBLISH
X-WR-CALNAME:New Salem Baptist Church
X-ORIGINAL-URL:https://nsbcgriffin.org
X-WR-CALDESC:Events for New Salem Baptist Church
REFRESH-INTERVAL;VALUE=DURATION:PT1H
X-Robots-Tag:noindex
X-PUBLISHED-TTL:PT1H
BEGIN:VTIMEZONE
TZID:UTC
BEGIN:STANDARD
TZOFFSETFROM:+0000
TZOFFSETTO:+0000
TZNAME:UTC
DTSTART:20240101T000000
END:STANDARD
END:VTIMEZONE
BEGIN:VTIMEZONE
TZID:America/New_York
BEGIN:DAYLIGHT
TZOFFSETFROM:-0500
TZOFFSETTO:-0400
TZNAME:EDT
DTSTART:20240310T070000
END:DAYLIGHT
BEGIN:STANDARD
TZOFFSETFROM:-0400
TZOFFSETTO:-0500
TZNAME:EST
DTSTART:20241103T060000
END:STANDARD
BEGIN:DAYLIGHT
TZOFFSETFROM:-0500
TZOFFSETTO:-0400
TZNAME:EDT
DTSTART:20250309T070000
END:DAYLIGHT
BEGIN:STANDARD
TZOFFSETFROM:-0400
TZOFFSETTO:-0500
TZNAME:EST
DTSTART:20251102T060000
END:STANDARD
BEGIN:DAYLIGHT
TZOFFSETFROM:-0500
TZOFFSETTO:-0400
TZNAME:EDT
DTSTART:20260308T070000
END:DAYLIGHT
BEGIN:STANDARD
TZOFFSETFROM:-0400
TZOFFSETTO:-0500
TZNAME:EST
DTSTART:20261101T060000
END:STANDARD
END:VTIMEZONE
BEGIN:VEVENT
DTSTART;TZID=UTC:20250331T193000
DTEND;TZID=UTC:20250331T210000
DTSTAMP:20260419T143834
CREATED:20250210T202921Z
LAST-MODIFIED:20250210T202921Z
UID:10003688-1743449400-1743454800@nsbcgriffin.org
SUMMARY:GriefShare
DESCRIPTION:GriefShare is a 13-week cycle. It is faith-based and reaches out to those who have lost a spouse\, child\, parent\, sibling\, friend or anyone close to you. This ministry is for our church members\, as well as\, our community. It is a friendly\, caring group of people who will walk alongside you through one of life’s most difficult experiences. You don’t have to go through the grieving process alone. You’ll gain access to valuable GriefShare resources to help you recover from your loss and look forward to rebuilding your life.
URL:https://nsbcgriffin.org/event/griefshare-4/2025-03-31/
ATTACH;FMTTYPE=image/png:https://nsbcgriffin.org/wp-content/uploads/2025/02/GriefShare-2-10-25-INSTAGRAM-1080-x-1080-px.png
END:VEVENT
BEGIN:VEVENT
DTSTART;TZID=UTC:20250331T183000
DTEND;TZID=UTC:20250331T193000
DTSTAMP:20260419T143834
CREATED:20241008T221507Z
LAST-MODIFIED:20250507T172654Z
UID:10002707-1743445800-1743449400@nsbcgriffin.org
SUMMARY:Zumba-LADIES ONLY
DESCRIPTION:This is a free exercise class for all skill levels.  Ladies ONLY!  Childcare not provided.
URL:https://nsbcgriffin.org/event/zumba-ladies-only/2025-03-31/
END:VEVENT
BEGIN:VEVENT
DTSTART;TZID=UTC:20250329T160000
DTEND;TZID=UTC:20250329T170000
DTSTAMP:20260419T143834
CREATED:20240326T192148Z
LAST-MODIFIED:20240328T220831Z
UID:10001121-1743264000-1743267600@nsbcgriffin.org
SUMMARY:Brightmoor Assisted Living Ministry
DESCRIPTION:Since the senior citizens of Brightmoor Assisted Living can not attend regular church services\, we are ministering to them through music and devotions each week at their residence.
URL:https://nsbcgriffin.org/event/brightmoor-assisted-living-ministry-2/2025-03-29/
LOCATION:Brightmoor Assisted Living\, 3223 Newnan Rd\, Griffin\, Georgia\, 30223
END:VEVENT
BEGIN:VEVENT
DTSTART;TZID=UTC:20250327T190000
DTEND;TZID=UTC:20250327T203000
DTSTAMP:20260419T143834
CREATED:20240326T200416Z
LAST-MODIFIED:20251208T184413Z
UID:10000078-1743102000-1743107400@nsbcgriffin.org
SUMMARY:Active FAITH
DESCRIPTION:This is a walking/exercise group that is open to anyone and all fitness levels. Children are welcome if their parents can supervise their walking/use of stroller. No childcare provided. We will have a time of fellowship and Bible study each week. We will be growing in both spiritual and physical fitness together.
URL:https://nsbcgriffin.org/event/active-faith-2/2025-03-27/
LOCATION:New Salem Baptist Church\, 57 Bicycle Rd\, Griffin\, GA\, 30223\, United States
ATTACH;FMTTYPE=image/jpeg:https://nsbcgriffin.org/wp-content/uploads/2024/01/Active-FAITH-1-8-23.jpg
END:VEVENT
BEGIN:VEVENT
DTSTART;TZID=UTC:20250327T190000
DTEND;TZID=UTC:20250327T200000
DTSTAMP:20260419T143834
CREATED:20240326T200542Z
LAST-MODIFIED:20251208T184524Z
UID:10001381-1743102000-1743105600@nsbcgriffin.org
SUMMARY:Stepping Stones to Recovery through Christ
DESCRIPTION:A 12-step recovery program facilitated by Donnie & Tammy Tallman. The combination of recovery and spirituality offers Christians an effective way to work a traditional twelve-step program and name Jesus Christ as their Higher Power. They meet in Room 107.
URL:https://nsbcgriffin.org/event/stepping-stones-to-recovery-through-christ-3/2025-03-27/
LOCATION:New Salem Baptist Church\, 57 Bicycle Rd\, Griffin\, GA\, 30223\, United States
ATTACH;FMTTYPE=image/png:https://nsbcgriffin.org/wp-content/uploads/2024/03/Stepping-Stones-to-Recover-3-13-25-Facebook-Post.png
END:VEVENT
BEGIN:VEVENT
DTSTART;TZID=UTC:20250326T190000
DTEND;TZID=UTC:20250326T200000
DTSTAMP:20260419T143834
CREATED:20240430T143849Z
LAST-MODIFIED:20260327T143355Z
UID:10002108-1743015600-1743019200@nsbcgriffin.org
SUMMARY:Kid's Ministry
DESCRIPTION:Children ages 3-5 and Kindergarten through 5th grades.
URL:https://nsbcgriffin.org/event/kids-ministry-2-2/2025-03-26/
LOCATION:New Salem Baptist Church\, 57 Bicycle Rd\, Griffin\, GA\, 30223\, United States
ATTACH;FMTTYPE=image/jpeg:https://nsbcgriffin.org/wp-content/uploads/2024/04/Kids-Ministry-5-5-24.jpg
END:VEVENT
BEGIN:VEVENT
DTSTART;TZID=UTC:20250326T190000
DTEND;TZID=UTC:20250326T200000
DTSTAMP:20260419T143834
CREATED:20240328T215148Z
LAST-MODIFIED:20260327T143154Z
UID:10000859-1743015600-1743019200@nsbcgriffin.org
SUMMARY:Bible Study
DESCRIPTION:Studying through the Bible one book at a time.
URL:https://nsbcgriffin.org/event/bible-study/2025-03-26/
LOCATION:New Salem Baptist Church\, 57 Bicycle Rd\, Griffin\, GA\, 30223\, United States
ATTACH;FMTTYPE=image/png:https://nsbcgriffin.org/wp-content/uploads/2024/03/Bible-Study-5-7-25.png
END:VEVENT
BEGIN:VEVENT
DTSTART;TZID=UTC:20250326T190000
DTEND;TZID=UTC:20250326T200000
DTSTAMP:20260419T143834
CREATED:20240326T153612Z
LAST-MODIFIED:20260327T143303Z
UID:10001850-1743015600-1743019200@nsbcgriffin.org
SUMMARY:Student Ministry
DESCRIPTION:6th-12th grades
URL:https://nsbcgriffin.org/event/student-ministry-2/2025-03-26/
LOCATION:New Salem Baptist Church\, 57 Bicycle Rd\, Griffin\, GA\, 30223\, United States
ATTACH;FMTTYPE=image/jpeg:https://nsbcgriffin.org/wp-content/uploads/2024/03/Youth-Wednesday-5-3-24.jpg
END:VEVENT
BEGIN:VEVENT
DTSTART;TZID=UTC:20250325T110000
DTEND;TZID=UTC:20250325T130000
DTSTAMP:20260419T143834
CREATED:20241203T192431Z
LAST-MODIFIED:20241231T152028Z
UID:10003390-1742900400-1742907600@nsbcgriffin.org
SUMMARY:Prayer Tent
DESCRIPTION:Praying with and for our community.  Please view evangelizegeorgia.org for the location each week.
URL:https://nsbcgriffin.org/event/prayer-tent-6/2025-03-25/
END:VEVENT
BEGIN:VEVENT
DTSTART;TZID=UTC:20250324T193000
DTEND;TZID=UTC:20250324T210000
DTSTAMP:20260419T143834
CREATED:20250210T202921Z
LAST-MODIFIED:20250210T202921Z
UID:10003687-1742844600-1742850000@nsbcgriffin.org
SUMMARY:GriefShare
DESCRIPTION:GriefShare is a 13-week cycle. It is faith-based and reaches out to those who have lost a spouse\, child\, parent\, sibling\, friend or anyone close to you. This ministry is for our church members\, as well as\, our community. It is a friendly\, caring group of people who will walk alongside you through one of life’s most difficult experiences. You don’t have to go through the grieving process alone. You’ll gain access to valuable GriefShare resources to help you recover from your loss and look forward to rebuilding your life.
URL:https://nsbcgriffin.org/event/griefshare-4/2025-03-24/
ATTACH;FMTTYPE=image/png:https://nsbcgriffin.org/wp-content/uploads/2025/02/GriefShare-2-10-25-INSTAGRAM-1080-x-1080-px.png
END:VEVENT
BEGIN:VEVENT
DTSTART;TZID=UTC:20250324T183000
DTEND;TZID=UTC:20250324T193000
DTSTAMP:20260419T143834
CREATED:20241008T221507Z
LAST-MODIFIED:20250507T172654Z
UID:10002706-1742841000-1742844600@nsbcgriffin.org
SUMMARY:Zumba-LADIES ONLY
DESCRIPTION:This is a free exercise class for all skill levels.  Ladies ONLY!  Childcare not provided.
URL:https://nsbcgriffin.org/event/zumba-ladies-only/2025-03-24/
END:VEVENT
BEGIN:VEVENT
DTSTART;TZID=UTC:20250322T160000
DTEND;TZID=UTC:20250322T170000
DTSTAMP:20260419T143834
CREATED:20240326T192148Z
LAST-MODIFIED:20240328T220831Z
UID:10001120-1742659200-1742662800@nsbcgriffin.org
SUMMARY:Brightmoor Assisted Living Ministry
DESCRIPTION:Since the senior citizens of Brightmoor Assisted Living can not attend regular church services\, we are ministering to them through music and devotions each week at their residence.
URL:https://nsbcgriffin.org/event/brightmoor-assisted-living-ministry-2/2025-03-22/
LOCATION:Brightmoor Assisted Living\, 3223 Newnan Rd\, Griffin\, Georgia\, 30223
END:VEVENT
BEGIN:VEVENT
DTSTART;TZID=UTC:20250321T190000
DTEND;TZID=UTC:20250321T200000
DTSTAMP:20260419T143834
CREATED:20240423T163009Z
LAST-MODIFIED:20250210T203115Z
UID:10002462-1742583600-1742587200@nsbcgriffin.org
SUMMARY:Faith Riders
DESCRIPTION:F.A.I.T.H. Riders consist of ordinary people from every walk of life who share a common desire to serve our Lord through motorcycle ministry.\nWe exist to share the saving Gospel of Jesus Christ intentionally and unapologetically to all who have yet to accept Him and to build up the body of Christ through worship\, fellowship\, discipleship and serving.\nWhile most of our members do ride motorcycles\, some choose not to and yet still serve in a great capacity and are an integral part of the ministry.\nWomen are welcomed and encouraged to become a part of F.A.I.T.H. Riders\nFor more information\, visit the F.A.I.T.H. Riders’ FAQ page-https://faithriders.com/frequently-asked-questions/
URL:https://nsbcgriffin.org/event/faith-riders/2025-03-21/
ATTACH;FMTTYPE=image/png:https://nsbcgriffin.org/wp-content/uploads/2024/04/Faith-Riders-logo-2024.png
END:VEVENT
BEGIN:VEVENT
DTSTART;TZID=UTC:20250320T190000
DTEND;TZID=UTC:20250320T203000
DTSTAMP:20260419T143834
CREATED:20240326T200416Z
LAST-MODIFIED:20251208T184413Z
UID:10000077-1742497200-1742502600@nsbcgriffin.org
SUMMARY:Active FAITH
DESCRIPTION:This is a walking/exercise group that is open to anyone and all fitness levels. Children are welcome if their parents can supervise their walking/use of stroller. No childcare provided. We will have a time of fellowship and Bible study each week. We will be growing in both spiritual and physical fitness together.
URL:https://nsbcgriffin.org/event/active-faith-2/2025-03-20/
LOCATION:New Salem Baptist Church\, 57 Bicycle Rd\, Griffin\, GA\, 30223\, United States
ATTACH;FMTTYPE=image/jpeg:https://nsbcgriffin.org/wp-content/uploads/2024/01/Active-FAITH-1-8-23.jpg
END:VEVENT
BEGIN:VEVENT
DTSTART;TZID=UTC:20250320T190000
DTEND;TZID=UTC:20250320T200000
DTSTAMP:20260419T143834
CREATED:20240326T200542Z
LAST-MODIFIED:20251208T184524Z
UID:10001380-1742497200-1742500800@nsbcgriffin.org
SUMMARY:Stepping Stones to Recovery through Christ
DESCRIPTION:A 12-step recovery program facilitated by Donnie & Tammy Tallman. The combination of recovery and spirituality offers Christians an effective way to work a traditional twelve-step program and name Jesus Christ as their Higher Power. They meet in Room 107.
URL:https://nsbcgriffin.org/event/stepping-stones-to-recovery-through-christ-3/2025-03-20/
LOCATION:New Salem Baptist Church\, 57 Bicycle Rd\, Griffin\, GA\, 30223\, United States
ATTACH;FMTTYPE=image/png:https://nsbcgriffin.org/wp-content/uploads/2024/03/Stepping-Stones-to-Recover-3-13-25-Facebook-Post.png
END:VEVENT
BEGIN:VEVENT
DTSTART;TZID=UTC:20250320T110000
DTEND;TZID=UTC:20250320T120000
DTSTAMP:20260419T143834
CREATED:20240716T203507Z
LAST-MODIFIED:20251208T171407Z
UID:10001601-1742468400-1742472000@nsbcgriffin.org
SUMMARY:Sunshine Ladies
DESCRIPTION:We are a group of ladies that meet for a covered dish meal\, Bible study and fellowship at the New Salem Event Center. We bring items (examples: lotion\, candy\, tissues\, candles\, pens\, word searches\, devotionals\, Chapstick\, etc.) for the Sunshine Baskets that are distributed to those needing encouragement. Ladies of all ages are invited to join us!
URL:https://nsbcgriffin.org/event/sunshine-ladies-2/2025-03-20/
LOCATION:New Salem Event Center\, 776 Vaughn School Rd\, Griffin\, GA\, 30223\, United States
ATTACH;FMTTYPE=image/jpeg:https://nsbcgriffin.org/wp-content/uploads/2024/03/419567020_711704564387205_8418512421664569362_n.jpg
END:VEVENT
BEGIN:VEVENT
DTSTART;TZID=UTC:20250319T190000
DTEND;TZID=UTC:20250319T200000
DTSTAMP:20260419T143834
CREATED:20240430T143849Z
LAST-MODIFIED:20260327T143355Z
UID:10002107-1742410800-1742414400@nsbcgriffin.org
SUMMARY:Kid's Ministry
DESCRIPTION:Children ages 3-5 and Kindergarten through 5th grades.
URL:https://nsbcgriffin.org/event/kids-ministry-2-2/2025-03-19/
LOCATION:New Salem Baptist Church\, 57 Bicycle Rd\, Griffin\, GA\, 30223\, United States
ATTACH;FMTTYPE=image/jpeg:https://nsbcgriffin.org/wp-content/uploads/2024/04/Kids-Ministry-5-5-24.jpg
END:VEVENT
BEGIN:VEVENT
DTSTART;TZID=UTC:20250319T190000
DTEND;TZID=UTC:20250319T200000
DTSTAMP:20260419T143834
CREATED:20240328T215148Z
LAST-MODIFIED:20260327T143154Z
UID:10000858-1742410800-1742414400@nsbcgriffin.org
SUMMARY:Bible Study
DESCRIPTION:Studying through the Bible one book at a time.
URL:https://nsbcgriffin.org/event/bible-study/2025-03-19/
LOCATION:New Salem Baptist Church\, 57 Bicycle Rd\, Griffin\, GA\, 30223\, United States
ATTACH;FMTTYPE=image/png:https://nsbcgriffin.org/wp-content/uploads/2024/03/Bible-Study-5-7-25.png
END:VEVENT
BEGIN:VEVENT
DTSTART;TZID=UTC:20250319T190000
DTEND;TZID=UTC:20250319T200000
DTSTAMP:20260419T143834
CREATED:20240326T153612Z
LAST-MODIFIED:20260327T143303Z
UID:10001849-1742410800-1742414400@nsbcgriffin.org
SUMMARY:Student Ministry
DESCRIPTION:6th-12th grades
URL:https://nsbcgriffin.org/event/student-ministry-2/2025-03-19/
LOCATION:New Salem Baptist Church\, 57 Bicycle Rd\, Griffin\, GA\, 30223\, United States
ATTACH;FMTTYPE=image/jpeg:https://nsbcgriffin.org/wp-content/uploads/2024/03/Youth-Wednesday-5-3-24.jpg
END:VEVENT
BEGIN:VEVENT
DTSTART;TZID=UTC:20250318T190000
DTEND;TZID=UTC:20250318T200000
DTSTAMP:20260419T143834
CREATED:20241004T224813Z
LAST-MODIFIED:20241231T151819Z
UID:10003252-1742324400-1742328000@nsbcgriffin.org
SUMMARY:Wholehearts-Young Adult Night of Worship
DESCRIPTION:We meet every other Tuesday to worship together through music\, fellowship\, and the reading of God’s word.  (See the calendar for dates.)  We will focus on relatable series topics for young adults. \nFREE coffee\, snacks\, and LIVE MUSIC! \nFollow us on Facebook:  Wholeheart Ministry
URL:https://nsbcgriffin.org/event/young-adult-night-of-worship/2025-03-18/
LOCATION:New Salem Baptist Church\, 57 Bicycle Rd\, Griffin\, GA\, 30223\, United States
ATTACH;FMTTYPE=image/jpeg:https://nsbcgriffin.org/wp-content/uploads/2024/10/Wholeheart-Ministry.jpg
END:VEVENT
BEGIN:VEVENT
DTSTART;TZID=UTC:20250318T110000
DTEND;TZID=UTC:20250318T130000
DTSTAMP:20260419T143834
CREATED:20241203T192431Z
LAST-MODIFIED:20241231T152028Z
UID:10003389-1742295600-1742302800@nsbcgriffin.org
SUMMARY:Prayer Tent
DESCRIPTION:Praying with and for our community.  Please view evangelizegeorgia.org for the location each week.
URL:https://nsbcgriffin.org/event/prayer-tent-6/2025-03-18/
END:VEVENT
BEGIN:VEVENT
DTSTART;TZID=UTC:20250317T193000
DTEND;TZID=UTC:20250317T210000
DTSTAMP:20260419T143834
CREATED:20250210T202921Z
LAST-MODIFIED:20250210T202921Z
UID:10003686-1742239800-1742245200@nsbcgriffin.org
SUMMARY:GriefShare
DESCRIPTION:GriefShare is a 13-week cycle. It is faith-based and reaches out to those who have lost a spouse\, child\, parent\, sibling\, friend or anyone close to you. This ministry is for our church members\, as well as\, our community. It is a friendly\, caring group of people who will walk alongside you through one of life’s most difficult experiences. You don’t have to go through the grieving process alone. You’ll gain access to valuable GriefShare resources to help you recover from your loss and look forward to rebuilding your life.
URL:https://nsbcgriffin.org/event/griefshare-4/2025-03-17/
ATTACH;FMTTYPE=image/png:https://nsbcgriffin.org/wp-content/uploads/2025/02/GriefShare-2-10-25-INSTAGRAM-1080-x-1080-px.png
END:VEVENT
BEGIN:VEVENT
DTSTART;TZID=UTC:20250317T183000
DTEND;TZID=UTC:20250317T193000
DTSTAMP:20260419T143834
CREATED:20241008T221507Z
LAST-MODIFIED:20250507T172654Z
UID:10002705-1742236200-1742239800@nsbcgriffin.org
SUMMARY:Zumba-LADIES ONLY
DESCRIPTION:This is a free exercise class for all skill levels.  Ladies ONLY!  Childcare not provided.
URL:https://nsbcgriffin.org/event/zumba-ladies-only/2025-03-17/
END:VEVENT
BEGIN:VEVENT
DTSTART;TZID=UTC:20250315T160000
DTEND;TZID=UTC:20250315T170000
DTSTAMP:20260419T143834
CREATED:20240326T192148Z
LAST-MODIFIED:20240328T220831Z
UID:10001119-1742054400-1742058000@nsbcgriffin.org
SUMMARY:Brightmoor Assisted Living Ministry
DESCRIPTION:Since the senior citizens of Brightmoor Assisted Living can not attend regular church services\, we are ministering to them through music and devotions each week at their residence.
URL:https://nsbcgriffin.org/event/brightmoor-assisted-living-ministry-2/2025-03-15/
LOCATION:Brightmoor Assisted Living\, 3223 Newnan Rd\, Griffin\, Georgia\, 30223
END:VEVENT
BEGIN:VEVENT
DTSTART;TZID=UTC:20250313T190000
DTEND;TZID=UTC:20250313T203000
DTSTAMP:20260419T143834
CREATED:20240326T200416Z
LAST-MODIFIED:20251208T184413Z
UID:10000076-1741892400-1741897800@nsbcgriffin.org
SUMMARY:Active FAITH
DESCRIPTION:This is a walking/exercise group that is open to anyone and all fitness levels. Children are welcome if their parents can supervise their walking/use of stroller. No childcare provided. We will have a time of fellowship and Bible study each week. We will be growing in both spiritual and physical fitness together.
URL:https://nsbcgriffin.org/event/active-faith-2/2025-03-13/
LOCATION:New Salem Baptist Church\, 57 Bicycle Rd\, Griffin\, GA\, 30223\, United States
ATTACH;FMTTYPE=image/jpeg:https://nsbcgriffin.org/wp-content/uploads/2024/01/Active-FAITH-1-8-23.jpg
END:VEVENT
BEGIN:VEVENT
DTSTART;TZID=UTC:20250313T190000
DTEND;TZID=UTC:20250313T200000
DTSTAMP:20260419T143834
CREATED:20240326T200542Z
LAST-MODIFIED:20251208T184524Z
UID:10001379-1741892400-1741896000@nsbcgriffin.org
SUMMARY:Stepping Stones to Recovery through Christ
DESCRIPTION:A 12-step recovery program facilitated by Donnie & Tammy Tallman. The combination of recovery and spirituality offers Christians an effective way to work a traditional twelve-step program and name Jesus Christ as their Higher Power. They meet in Room 107.
URL:https://nsbcgriffin.org/event/stepping-stones-to-recovery-through-christ-3/2025-03-13/
LOCATION:New Salem Baptist Church\, 57 Bicycle Rd\, Griffin\, GA\, 30223\, United States
ATTACH;FMTTYPE=image/png:https://nsbcgriffin.org/wp-content/uploads/2024/03/Stepping-Stones-to-Recover-3-13-25-Facebook-Post.png
END:VEVENT
BEGIN:VEVENT
DTSTART;TZID=America/New_York:20250313T183000
DTEND;TZID=America/New_York:20250313T200000
DTSTAMP:20260419T143834
CREATED:20250210T210142Z
LAST-MODIFIED:20250210T210142Z
UID:10003743-1741890600-1741896000@nsbcgriffin.org
SUMMARY:Spring Indoor Archery League Nights
DESCRIPTION:This is a FREE event with challenging targets located indoors which makes it convenient for those cold\, rainy nights.  It is a great way to hone your skills for the upcoming turkey season.  Prizes will be given to the top scores in each category.  Join your fellow archers for a great time of fun and practice.
URL:https://nsbcgriffin.org/event/spring-indoor-archery-league-nights/2025-03-13/
ATTACH;FMTTYPE=image/png:https://nsbcgriffin.org/wp-content/uploads/2025/02/Spring-Archery-League-Nights-FACEBOOK-1-23-25-.png
END:VEVENT
BEGIN:VEVENT
DTSTART;TZID=UTC:20250312T190000
DTEND;TZID=UTC:20250312T200000
DTSTAMP:20260419T143834
CREATED:20240430T143849Z
LAST-MODIFIED:20260327T143355Z
UID:10002106-1741806000-1741809600@nsbcgriffin.org
SUMMARY:Kid's Ministry
DESCRIPTION:Children ages 3-5 and Kindergarten through 5th grades.
URL:https://nsbcgriffin.org/event/kids-ministry-2-2/2025-03-12/
LOCATION:New Salem Baptist Church\, 57 Bicycle Rd\, Griffin\, GA\, 30223\, United States
ATTACH;FMTTYPE=image/jpeg:https://nsbcgriffin.org/wp-content/uploads/2024/04/Kids-Ministry-5-5-24.jpg
END:VEVENT
BEGIN:VEVENT
DTSTART;TZID=UTC:20250312T190000
DTEND;TZID=UTC:20250312T200000
DTSTAMP:20260419T143835
CREATED:20240328T215148Z
LAST-MODIFIED:20260327T143154Z
UID:10000857-1741806000-1741809600@nsbcgriffin.org
SUMMARY:Bible Study
DESCRIPTION:Studying through the Bible one book at a time.
URL:https://nsbcgriffin.org/event/bible-study/2025-03-12/
LOCATION:New Salem Baptist Church\, 57 Bicycle Rd\, Griffin\, GA\, 30223\, United States
ATTACH;FMTTYPE=image/png:https://nsbcgriffin.org/wp-content/uploads/2024/03/Bible-Study-5-7-25.png
END:VEVENT
BEGIN:VEVENT
DTSTART;TZID=UTC:20250312T190000
DTEND;TZID=UTC:20250312T200000
DTSTAMP:20260419T143835
CREATED:20240326T153612Z
LAST-MODIFIED:20260327T143303Z
UID:10001848-1741806000-1741809600@nsbcgriffin.org
SUMMARY:Student Ministry
DESCRIPTION:6th-12th grades
URL:https://nsbcgriffin.org/event/student-ministry-2/2025-03-12/
LOCATION:New Salem Baptist Church\, 57 Bicycle Rd\, Griffin\, GA\, 30223\, United States
ATTACH;FMTTYPE=image/jpeg:https://nsbcgriffin.org/wp-content/uploads/2024/03/Youth-Wednesday-5-3-24.jpg
END:VEVENT
END:VCALENDAR