BEGIN:VCALENDAR
VERSION:2.0
PRODID:-//New Salem Baptist Church - ECPv6.15.20//NONSGML v1.0//EN
CALSCALE:GREGORIAN
METHOD:PUBLISH
X-WR-CALNAME:New Salem Baptist Church
X-ORIGINAL-URL:https://nsbcgriffin.org
X-WR-CALDESC:Events for New Salem Baptist Church
REFRESH-INTERVAL;VALUE=DURATION:PT1H
X-Robots-Tag:noindex
X-PUBLISHED-TTL:PT1H
BEGIN:VTIMEZONE
TZID:UTC
BEGIN:STANDARD
TZOFFSETFROM:+0000
TZOFFSETTO:+0000
TZNAME:UTC
DTSTART:20250101T000000
END:STANDARD
END:VTIMEZONE
BEGIN:VEVENT
DTSTART;TZID=UTC:20260401T080000
DTEND;TZID=UTC:20260426T170000
DTSTAMP:20260422T130538
CREATED:20260327T150741Z
LAST-MODIFIED:20260327T150741Z
UID:10004599-1775030400-1777222800@nsbcgriffin.org
SUMMARY:Annie Armstrong Easter Offering
DESCRIPTION:We will be receiving monies for our annual Annie Armstrong Easter Offering through the month of April.  This money will be given to the North American Mission Board in support of North American missions\, like our Lottie Moon Christmas Offering which supports international missions.  Our church goal this year is $3\,000-100% of your gift goes to the mission field.
URL:https://nsbcgriffin.org/event/annie-armstrong-easter-offering/
ATTACH;FMTTYPE=image/png:https://nsbcgriffin.org/wp-content/uploads/2026/03/Annie-Armstrong-Easter-Offering-2026-SCREEN.png
END:VEVENT
BEGIN:VEVENT
DTSTART;TZID=UTC:20260422T180000
DTEND;TZID=UTC:20260422T190000
DTSTAMP:20260422T130538
CREATED:20251002T210827Z
LAST-MODIFIED:20260327T142103Z
UID:10003967-1776880800-1776884400@nsbcgriffin.org
SUMMARY:Wednesday Meal
DESCRIPTION:Join us for dinner!  Bring your whole family!  Stay for Bible study! \nCost:  donations
URL:https://nsbcgriffin.org/event/wednesday-meal/2026-04-22/
END:VEVENT
BEGIN:VEVENT
DTSTART;TZID=UTC:20260422T190000
DTEND;TZID=UTC:20260422T200000
DTSTAMP:20260422T130538
CREATED:20240326T153612Z
LAST-MODIFIED:20260327T143303Z
UID:10001906-1776884400-1776888000@nsbcgriffin.org
SUMMARY:Student Ministry
DESCRIPTION:6th-12th grades
URL:https://nsbcgriffin.org/event/student-ministry-2/2026-04-22/
LOCATION:New Salem Baptist Church\, 57 Bicycle Rd\, Griffin\, GA\, 30223\, United States
ATTACH;FMTTYPE=image/jpeg:https://nsbcgriffin.org/wp-content/uploads/2024/03/Youth-Wednesday-5-3-24.jpg
END:VEVENT
BEGIN:VEVENT
DTSTART;TZID=UTC:20260422T190000
DTEND;TZID=UTC:20260422T200000
DTSTAMP:20260422T130538
CREATED:20240328T215148Z
LAST-MODIFIED:20260327T143154Z
UID:10000915-1776884400-1776888000@nsbcgriffin.org
SUMMARY:Bible Study
DESCRIPTION:Studying through the Bible one book at a time.
URL:https://nsbcgriffin.org/event/bible-study/2026-04-22/
LOCATION:New Salem Baptist Church\, 57 Bicycle Rd\, Griffin\, GA\, 30223\, United States
ATTACH;FMTTYPE=image/png:https://nsbcgriffin.org/wp-content/uploads/2024/03/Bible-Study-5-7-25.png
END:VEVENT
BEGIN:VEVENT
DTSTART;TZID=UTC:20260422T190000
DTEND;TZID=UTC:20260422T200000
DTSTAMP:20260422T130538
CREATED:20240430T143849Z
LAST-MODIFIED:20260327T143355Z
UID:10002164-1776884400-1776888000@nsbcgriffin.org
SUMMARY:Kid's Ministry
DESCRIPTION:Children ages 3-5 and Kindergarten through 5th grades.
URL:https://nsbcgriffin.org/event/kids-ministry-2-2/2026-04-22/
LOCATION:New Salem Baptist Church\, 57 Bicycle Rd\, Griffin\, GA\, 30223\, United States
ATTACH;FMTTYPE=image/jpeg:https://nsbcgriffin.org/wp-content/uploads/2024/04/Kids-Ministry-5-5-24.jpg
END:VEVENT
END:VCALENDAR